{"text_format":"1","workbook":"xlsx","n_sheets":2,"sheets":["Processed_meteo_data","Sheet1"],"not_rendered":{"charts":0,"images":0,"macros":1,"external_links":0,"defined_names":1,"comments":0,"pivot_tables":0},"unopened":[],"bounds":{"document_bytes":16777216,"sheet_cells":100000,"rows_first":2000,"rows_last":500,"rows_between":2000,"halvings":0,"cell_chars":16384,"cell_head_chars":4096},"cells_cut":0,"cells_raw":0,"read":"whole","date_system":"1900"}

{"sheet":"Processed_meteo_data","index":0,"n_rows":373,"n_cols":16,"rows_kept":373,"cut":false,"hidden":false,"merged":[[1,6,1,10],[1,11,1,15],[1,1,1,3],[16,5,16,7],[16,9,16,11]]}
[34,null,null,null,null,null,null,null,null,null,"NEKE VRSTE FOR !!!!!!!!!!!!!!"]
[29,"Daily average",null,null,null,null,"Precipitation (mm)",null,null,null,null,"Air_Temperature (°C)"]
[{"$f":"A1+A2","v":63},"Date","Precipitation (mm)","Air_Temperature (°C)",null,"Month","P_MIN_DATE","P_MIN_VALUE","P_MAX_DATE","P_MAX_VALUE","P_SUM_VALUE","AT_MIN_DATE","AT_MIN_VALUE","AT_MAX_DATE","AT_MAX_VALUE","AT_AVG_VALUE"]
[{"$f":"IF(B4<>\"\",MONTH(B4),\"\")","v":1},{"$f":"Sheet1!B4","v":"2016-01-01"},{"$f":"IF(Sheet1!E4=-1,0,Sheet1!E4)","v":0},{"$f":"Sheet1!F4","v":-3.3},null,1,{"$f":"INDEX(B4:B34,MATCH(H4,C4:C34,0))","v":"2016-01-26"},{"$f":"IF(MONTH(B$4:B$400)=$F4,IFERROR(SMALL(C$4:C$400,COUNTIF(C$4:C$400,\"<\"&0.1)+1),0),\"\")","v":0.1},{"$f":"INDEX(B4:B34,MATCH(MAX(C4:C34),C4:C34,0))","v":"2016-01-12"},{"$f":"MAX(IF(A$4:A$380 = F4,C$4:C$380))","v":39},{"$f":"SUMIF(A$1:A$380,F4,C$1:C$380)","v":62.800000000000004},{"$f":"INDEX(Sheet1!B4:B34,MATCH(MIN(Sheet1!D4:D34),Sheet1!D4:D34,0))","v":"2016-01-05"},{"$f":"MIN(Sheet1!D4:D34)","v":-14.2},{"$f":"INDEX(Sheet1!B4:B34,MATCH(MAX(Sheet1!C4:C34),Sheet1!C4:C34,0))","v":"2016-01-11"},{"$f":"MAX(Sheet1!C4:C34)","v":16.7},{"$f":"AVERAGE(D4:D34)","v":-8.3870967741935476E-2}]
[{"$f":"IF(B5<>\"\",MONTH(B5),\"\")","v":1},{"$f":"Sheet1!B5","v":"2016-01-02"},{"$f":"IF(Sheet1!E5=-1,0,Sheet1!E5)","v":0},{"$f":"Sheet1!F5","v":-3.2},null,2,{"$f":"INDEX(B35:B63,MATCH(H5,C35:C63,0))","v":{"$error":"#N/A"}},{"$f":"IF(MONTH(B$4:B$400)=$F5,IFERROR(SMALL(C$4:C$400,COUNTIF(C$4:C$400,\"<\"&0.1)+1),0),\"\")","v":""},{"$f":"INDEX(B35:B63,MATCH(MAX(C35:C63),C35:C63,0))","v":"2016-02-16"},{"$f":"MAX(IF(A$4:A$380 = F5,C$4:C$380))","v":0},172.29999999999998,{"$f":"INDEX(Sheet1!B35:B63,MATCH(MIN(Sheet1!D35:D63),Sheet1!D35:D63,0))","v":"2016-02-06"},{"$f":"MIN(Sheet1!D35:D63)","v":-4.0999999999999996},{"$f":"INDEX(Sheet1!B35:B63,MATCH(MAX(Sheet1!C35:C63),Sheet1!C35:C63,0))","v":"2016-02-01"},{"$f":"MAX(Sheet1!C35:C63)","v":16.3},{"$f":"AVERAGE(D35:D63)","v":5.224137931034484}]
[1,{"$f":"Sheet1!B6","v":"2016-01-03"},{"$f":"IF(Sheet1!E6=-1,0,Sheet1!E6)","v":6.6},{"$f":"Sheet1!F6","v":-5},null,3,{"$f":"INDEX(B64:B94,MATCH(H6,C64:C94,0))","v":{"$error":"#N/A"}},{"$f":"IF(MONTH(B$4:B$400)=$F6,IFERROR(SMALL(C$4:C$400,COUNTIF(C$4:C$400,\"<\"&0.1)+1),0),\"\")","v":""},{"$f":"INDEX(B64:B94,MATCH(MAX(C64:C94),C64:C94,0))","v":"2016-03-04"},{"$f":"MAXIFs(C4:C$380,A4:A380,F6)","v":{"$error":"#NAME?"}},{"$f":"SUMIF(A$1:A$380,F6,C$1:C$380)","v":59.6},{"$f":"INDEX(Sheet1!B64:B94,MATCH(MIN(Sheet1!D64:D94),Sheet1!D64:D94,0))","v":"2016-03-25"},{"$f":"MIN(Sheet1!D64:D94)","v":-4.0999999999999996},{"$f":"INDEX(Sheet1!B64:B94,MATCH(MAX(Sheet1!C64:C94),Sheet1!C64:C94,0))","v":"2016-03-31"},{"$f":"MAX(Sheet1!C64:C94)","v":20.6},{"$f":"AVERAGE(D64:D94)","v":6.4903225806451603}]
[1,{"$f":"Sheet1!B7","v":"2016-01-04"},{"$f":"IF(Sheet1!E7=-1,0,Sheet1!E7)","v":1.2},{"$f":"Sheet1!F7","v":-6.5},null,4,{"$f":"INDEX(B95:B124,MATCH(H7,C95:C124,0))","v":{"$error":"#N/A"}},"",{"$f":"INDEX(B95:B124,MATCH(MAX(C95:C124),C95:C124,0))","v":"2016-04-28"},{"$f":"MAX(C95:C124)","v":30.8},{"$f":"SUMIF(A$1:A$380,F7,C$1:C$380)","v":68.3},{"$f":"INDEX(Sheet1!B95:B124,MATCH(MIN(Sheet1!D95:D124),Sheet1!D95:D124,0))","v":"2016-04-26"},{"$f":"MIN(Sheet1!D95:D124)","v":-3.1},{"$f":"INDEX(Sheet1!B95:B124,MATCH(MAX(Sheet1!C95:C124),Sheet1!C95:C124,0))","v":"2016-04-06"},{"$f":"MAX(Sheet1!C95:C124)","v":25.1},{"$f":"AVERAGE(D95:D124)","v":11.356666666666671}]
[1,{"$f":"Sheet1!B8","v":"2016-01-05"},{"$f":"IF(Sheet1!E8=-1,0,Sheet1!E8)","v":1.2},{"$f":"Sheet1!F8","v":-6.2},null,5,{"$f":"INDEX(B125:B155,MATCH(H8,C125:C155,0))","v":{"$error":"#N/A"}},"",{"$f":"INDEX(B125:B155,MATCH(MAX(C125:C155),C125:C155,0))","v":"2016-05-02"},{"$f":"MAX(C125:C155)","v":25.5},128.99999999999997,{"$f":"INDEX(Sheet1!B125:B155,MATCH(MIN(Sheet1!D125:D155),Sheet1!D125:D155,0))","v":"2016-05-17"},{"$f":"MIN(Sheet1!D125:D155)","v":3.1},{"$f":"INDEX(Sheet1!B125:B155,MATCH(MAX(Sheet1!C125:C155),Sheet1!C125:C155,0))","v":"2016-05-28"},{"$f":"MAX(Sheet1!C125:C155)","v":29.4},{"$f":"AVERAGE(D125:D155)","v":14.558064516129029}]
[1,{"$f":"Sheet1!B9","v":"2016-01-06"},{"$f":"IF(Sheet1!E9=-1,0,Sheet1!E9)","v":0.4},{"$f":"Sheet1!F9","v":-2},null,6,{"$f":"INDEX(B156:B185,MATCH(H9,C156:C185,0))","v":{"$error":"#N/A"}},"",{"$f":"INDEX(B156:B185,MATCH(MAX(C156:C185),C156:C185,0))","v":"2016-06-15"},{"$f":"MAX(C156:C185)","v":27.3},{"$f":"SUMIF(A$1:A$380,F9,C$1:C$380)","v":120.50000000000001},{"$f":"INDEX(Sheet1!B156:B185,MATCH(MIN(Sheet1!D156:D185),Sheet1!D156:D185,0))","v":"2016-06-04"},{"$f":"MIN(Sheet1!D156:D185)","v":10.1},{"$f":"INDEX(Sheet1!B156:B185,MATCH(MAX(Sheet1!C156:C185),Sheet1!C156:C185,0))","v":"2016-06-24"},{"$f":"MAX(Sheet1!C156:C185)","v":32.9},{"$f":"AVERAGE(D156:D185)","v":18.709999999999997}]
[1,{"$f":"Sheet1!B10","v":"2016-01-07"},{"$f":"IF(Sheet1!E10=-1,0,Sheet1!E10)","v":1},{"$f":"Sheet1!F10","v":-1.8},null,7,{"$f":"INDEX(B186:B216,MATCH(H10,C186:C216,0))","v":{"$error":"#N/A"}},"",{"$f":"INDEX(B186:B216,MATCH(MAX(C186:C216),C186:C216,0))","v":"2016-07-14"},{"$f":"MAX(C186:C216)","v":20.9},66.8,{"$f":"INDEX(Sheet1!B186:B216,MATCH(MIN(Sheet1!D186:D216),Sheet1!D186:D216,0))","v":"2016-07-05"},{"$f":"MIN(Sheet1!D186:D216)","v":11.2},{"$f":"INDEX(Sheet1!B186:B216,MATCH(MAX(Sheet1!C186:C216),Sheet1!C186:C216,0))","v":"2016-07-12"},{"$f":"MAX(Sheet1!C186:C216)","v":33.4},{"$f":"AVERAGE(D186:D216)","v":21.529032258064518}]
[1,{"$f":"Sheet1!B11","v":"2016-01-08"},{"$f":"IF(Sheet1!E11=-1,0,Sheet1!E11)","v":0},{"$f":"Sheet1!F11","v":-0.3},null,8,{"$f":"INDEX(B217:B247,MATCH(H11,C217:C247,0))","v":{"$error":"#N/A"}},"",{"$f":"INDEX(B217:B247,MATCH(MAX(C217:C247),C217:C247,0))","v":"2016-08-01"},{"$f":"MAX(C217:C247)","v":39},{"$f":"SUMIF(A$1:A$380,F11,C$1:C$380)","v":172.69999999999996},{"$f":"INDEX(Sheet1!B217:B247,MATCH(MIN(Sheet1!D217:D247),Sheet1!D217:D247,0))","v":"2016-08-12"},{"$f":"MIN(Sheet1!D217:D247)","v":5.9},{"$f":"INDEX(Sheet1!B217:B247,MATCH(MAX(Sheet1!C217:C247),Sheet1!C217:C247,0))","v":"2016-08-05"},{"$f":"MAX(Sheet1!C217:C247)","v":30.7},{"$f":"AVERAGE(D217:D247)","v":18.796774193548391}]
[1,{"$f":"Sheet1!B12","v":"2016-01-09"},{"$f":"IF(Sheet1!E12=-1,0,Sheet1!E12)","v":1.3},{"$f":"Sheet1!F12","v":1.4},null,9,{"$f":"INDEX(B248:B277,MATCH(H12,C248:C277,0))","v":"2016-09-02"},{"$f":"IFERROR(SMALL(C248:C277,COUNTIF(C248:C277,\"<\"&0.1)+1),0)","v":0.1},{"$f":"INDEX(B248:B277,MATCH(MAX(C248:C277),C248:C277,0))","v":"2016-09-17"},{"$f":"MAX(C248:C277)","v":18.3},40.5,{"$f":"INDEX(Sheet1!B248:B277,MATCH(MIN(Sheet1!D248:D277),Sheet1!D248:D277,0))","v":"2016-09-22"},{"$f":"MIN(Sheet1!D248:D277)","v":4.5},{"$f":"INDEX(Sheet1!B248:B277,MATCH(MAX(Sheet1!C248:C277),Sheet1!C248:C277,0))","v":"2016-09-04"},{"$f":"MAX(Sheet1!C248:C277)","v":29.7},{"$f":"AVERAGE(D248:D277)","v":16.466666666666665}]
[1,{"$f":"Sheet1!B13","v":"2016-01-10"},{"$f":"IF(Sheet1!E13=-1,0,Sheet1!E13)","v":12.9},{"$f":"Sheet1!F13","v":6.7},null,10,{"$f":"INDEX(B278:B308,MATCH(H13,C278:C308,0))","v":"2016-10-24"},{"$f":"IFERROR(SMALL(C278:C308,COUNTIF(C278:C308,\"<\"&0.1)+1),0)","v":0.1},{"$f":"INDEX(B278:B308,MATCH(MAX(C278:C308),C278:C308,0))","v":"2016-10-26"},{"$f":"MAX(C278:C308)","v":28.6},103.00000000000001,{"$f":"INDEX(Sheet1!B278:B308,MATCH(MIN(Sheet1!D278:D308),Sheet1!D278:D308,0))","v":"2016-10-06"},{"$f":"MIN(Sheet1!D278:D308)","v":-1.8},{"$f":"INDEX(Sheet1!B278:B308,MATCH(MAX(Sheet1!C278:C308),Sheet1!C278:C308,0))","v":"2016-10-01"},{"$f":"MAX(Sheet1!C278:C308)","v":24.1},{"$f":"AVERAGE(D278:D308)","v":9.3806451612903228}]
[1,{"$f":"Sheet1!B14","v":"2016-01-11"},{"$f":"IF(Sheet1!E14=-1,0,Sheet1!E14)","v":0.4},{"$f":"Sheet1!F14","v":10.4},null,11,{"$f":"INDEX(B309:B338,MATCH(H14,C309:C338,0))","v":"2016-11-10"},{"$f":"IFERROR(SMALL(C309:C338,COUNTIF(C309:C338,\"<\"&0.1)+1),0)","v":0.1},{"$f":"INDEX(B309:B338,MATCH(MAX(C309:C338),C309:C338,0))","v":"2016-11-07"},{"$f":"MAX(C309:C338)","v":38.1},{"$f":"SUMIF(A$1:A$380,F14,C$1:C$380)","v":142.99999999999997},{"$f":"INDEX(Sheet1!B309:B338,MATCH(MIN(Sheet1!D309:D338),Sheet1!D309:D338,0))","v":"2016-11-30"},{"$f":"MIN(Sheet1!D309:D338)","v":-7.4},{"$f":"INDEX(Sheet1!B309:B338,MATCH(MAX(Sheet1!C309:C338),Sheet1!C309:C338,0))","v":"2016-11-24"},{"$f":"MAX(Sheet1!C309:C338)","v":18.2},{"$f":"AVERAGE(D309:D338)","v":5.9733333333333327}]
[1,{"$f":"Sheet1!B15","v":"2016-01-12"},{"$f":"IF(Sheet1!E15=-1,0,Sheet1!E15)","v":36.700000000000003},{"$f":"Sheet1!F15","v":3.3},null,12,{"$f":"INDEX(B339:B369,MATCH(H15,C339:C369,0))","v":"2016-12-27"},{"$f":"IFERROR(SMALL(C339:C369,COUNTIF(C339:C369,\"<\"&0.1)+1),0)","v":0.1},{"$f":"INDEX(B339:B369,MATCH(MAX(C339:C369),C339:C369,0))","v":"2016-12-29"},{"$f":"MAX(C339:C369)","v":0.2},0.30000000000000004,{"$f":"INDEX(Sheet1!B339:B369,MATCH(MIN(Sheet1!D339:D369),Sheet1!D339:D369,0))","v":"2016-12-31"},{"$f":"MIN(Sheet1!D339:D369)","v":-10.6},{"$f":"INDEX(Sheet1!B339:B369,MATCH(MAX(Sheet1!C339:C369),Sheet1!C339:C369,0))","v":"2016-12-12"},{"$f":"MAX(Sheet1!C339:C369)","v":12.6},{"$f":"AVERAGE(D339:D369)","v":-0.92258064516129024}]
[1,{"$f":"Sheet1!B16","v":"2016-01-13"},{"$f":"IF(Sheet1!E16=-1,0,Sheet1!E16)","v":0},{"$f":"Sheet1!F16","v":2.2000000000000002}]
[1,{"$f":"Sheet1!B17","v":"2016-01-14"},{"$f":"IF(Sheet1!E17=-1,0,Sheet1!E17)","v":0},{"$f":"Sheet1!F17","v":0.9},null,"Precipitation (mm)",null,null,null,"Air_Temperature (°C)"]
[1,{"$f":"Sheet1!B18","v":"2016-01-15"},{"$f":"IF(Sheet1!E18=-1,0,Sheet1!E18)","v":0.9},{"$f":"Sheet1!F18","v":0.6},null,"P_YEARLY","P_DATE","P_VALUE",null,"AT_YEARLY","AT_DATE","AT_VALUE"]
[1,{"$f":"Sheet1!B19","v":"2016-01-16"},{"$f":"IF(Sheet1!E19=-1,0,Sheet1!E19)","v":0},{"$f":"Sheet1!F19","v":-1},null,"MIN",{"$f":"INDEX(G4:G15,MATCH(MIN(H4:H15),H4:H15,0))","v":"2016-01-26"},{"$f":"MIN(H4:H15)","v":0.1},null,"MIN",{"$f":"INDEX(L4:L15,MATCH(MIN(M4:M15),M4:M15,0))","v":"2016-01-05"},{"$f":"MIN(M4:M15)","v":-14.2}]
[1,{"$f":"Sheet1!B20","v":"2016-01-17"},{"$f":"IF(Sheet1!E20=-1,0,Sheet1!E20)","v":0},{"$f":"Sheet1!F20","v":-1.6},null,"MAX",{"$f":"INDEX(I4:I15,MATCH(MAX(J4:J15),J4:J15,0))","v":{"$error":"#NAME?"}},{"$f":"MAX(J4:J15)","v":{"$error":"#NAME?"}},null,"MAX",{"$f":"INDEX(N4:N15,MATCH(MAX(O4:O15),O4:O15,0))","v":"2016-07-12"},{"$f":"MAX(O4:O15)","v":33.4}]
[1,{"$f":"Sheet1!B21","v":"2016-01-18"},{"$f":"IF(Sheet1!E21=-1,0,Sheet1!E21)","v":0},{"$f":"Sheet1!F21","v":-5.3},null,"SUM",{"$f":"YEAR(B4)","v":2016},{"$f":"SUM(K4:K15)","v":1138.7999999999997},null,"AVG",{"$f":"YEAR(B4)","v":2016},{"$f":"AVERAGE(P4:P15)","v":10.623265974539612}]
[1,{"$f":"Sheet1!B22","v":"2016-01-19"},{"$f":"IF(Sheet1!E22=-1,0,Sheet1!E22)","v":0},{"$f":"Sheet1!F22","v":-5.9}]
[1,{"$f":"Sheet1!B23","v":"2016-01-20"},{"$f":"IF(Sheet1!E23=-1,0,Sheet1!E23)","v":0},{"$f":"Sheet1!F23","v":-4.0999999999999996}]
[1,{"$f":"Sheet1!B24","v":"2016-01-21"},{"$f":"IF(Sheet1!E24=-1,0,Sheet1!E24)","v":0},{"$f":"Sheet1!F24","v":-3.5},null,"Legend",null,"ALT in F11 vkljucis Visual Basic editor"]
[1,{"$f":"Sheet1!B25","v":"2016-01-22"},{"$f":"IF(Sheet1!E25=-1,0,Sheet1!E25)","v":0},{"$f":"Sheet1!F25","v":-4}]
[1,{"$f":"Sheet1!B26","v":"2016-01-23"},{"$f":"IF(Sheet1!E26=-1,0,Sheet1!E26)","v":0},{"$f":"Sheet1!F26","v":-6.2},null,"Daily"]
[1,{"$f":"Sheet1!B27","v":"2016-01-24"},{"$f":"IF(Sheet1!E27=-1,0,Sheet1!E27)","v":0},{"$f":"Sheet1!F27","v":-2.4},null,"Monthly",null,null,{"$f":"MONTH(B4)","v":1},null,null,null,"tipi dim v visual basic in excel ....."]
[1,{"$f":"Sheet1!B28","v":"2016-01-25"},{"$f":"IF(Sheet1!E28=-1,0,Sheet1!E28)","v":0},{"$f":"Sheet1!F28","v":2.5},null,"Yearly",null,null,null,null,null,null,"https://docs.microsoft.com/en-us/dotnet/visual-basic/language-reference/statements/dim-statement"]
[1,{"$f":"Sheet1!B29","v":"2016-01-26"},{"$f":"IF(Sheet1!E29=-1,0,Sheet1!E29)","v":0.1},{"$f":"Sheet1!F29","v":2.6},null,null,null,null,"Spodnjo st izracuna GUMB (klik)"]
[1,{"$f":"Sheet1!B30","v":"2016-01-27"},{"$f":"IF(Sheet1!E30=-1,0,Sheet1!E30)","v":0},{"$f":"Sheet1!F30","v":4.0999999999999996},null,null,null,100,162.89999999999998,"  Dim vso As Double",null,null,"Kako dodadam gumb za izvedbo makroja (slike)"]
[1,{"$f":"Sheet1!B31","v":"2016-01-28"},{"$f":"IF(Sheet1!E31=-1,0,Sheet1!E31)","v":0},{"$f":"Sheet1!F31","v":5.6},null,null,null,100,null,"        vso = 0",null,null,"https://www.youtube.com/watch?v=BecOCSWw1to"]
[1,{"$f":"Sheet1!B32","v":"2016-01-29"},{"$f":"IF(Sheet1!E32=-1,0,Sheet1!E32)","v":0},{"$f":"Sheet1!F32","v":2.8},null,null,null,100,null,"        ",null,null,"Izberem recimo - velja za ta dokument"]
[1,{"$f":"Sheet1!B33","v":"2016-01-30"},{"$f":"IF(Sheet1!E33=-1,0,Sheet1!E33)","v":0},{"$f":"Sheet1!F33","v":7},null,null,null,100,null,"Dim i As Integer",null,null,"List1.ProFirst"]
[1,{"$f":"Sheet1!B34","v":"2016-01-31"},{"$f":"IF(Sheet1!E34=-1,0,Sheet1!E34)","v":0.1},{"$f":"Sheet1!F34","v":9.6},null,2,null,100]
[2,{"$f":"Sheet1!B35","v":"2016-02-01"},{"$f":"IF(Sheet1!E35=-1,0,Sheet1!E35)","v":1},{"$f":"Sheet1!F35","v":7.8},null,2,null,100,null,"For i = 30 To 39"]
[2,{"$f":"Sheet1!B36","v":"2016-02-02"},{"$f":"IF(Sheet1!E36=-1,0,Sheet1!E36)","v":0},{"$f":"Sheet1!F36","v":12.3},null,null,null,100,null,"    Cells(i, 8).Value = 100"]
[2,{"$f":"Sheet1!B37","v":"2016-02-03"},{"$f":"IF(Sheet1!E37=-1,0,Sheet1!E37)","v":0},{"$f":"Sheet1!F37","v":6.1},null,null,null,100,null,"    "]
[2,{"$f":"Sheet1!B38","v":"2016-02-04"},{"$f":"IF(Sheet1!E38=-1,0,Sheet1!E38)","v":14.9},{"$f":"Sheet1!F38","v":3.1},null,null,null,100,null,"   vso = Cells(i, 3).Value + vso"]
[2,{"$f":"Sheet1!B39","v":"2016-02-05"},{"$f":"IF(Sheet1!E39=-1,0,Sheet1!E39)","v":0},{"$f":"Sheet1!F39","v":1.6},null,null,null,100,null,"   "]
[2,{"$f":"Sheet1!B40","v":"2016-02-06"},{"$f":"IF(Sheet1!E40=-1,0,Sheet1!E40)","v":0},{"$f":"Sheet1!F40","v":6.2},null,null,null,100,null,"    "]
[2,{"$f":"Sheet1!B41","v":"2016-02-07"},{"$f":"IF(Sheet1!E41=-1,0,Sheet1!E41)","v":0},{"$f":"Sheet1!F41","v":9.5},null,null,null,100,null,"Next i"]
[2,{"$f":"Sheet1!B42","v":"2016-02-08"},{"$f":"IF(Sheet1!E42=-1,0,Sheet1!E42)","v":0.7},{"$f":"Sheet1!F42","v":9.4},null,null,null,100]
[2,{"$f":"Sheet1!B43","v":"2016-02-09"},{"$f":"IF(Sheet1!E43=-1,0,Sheet1!E43)","v":1.3},{"$f":"Sheet1!F43","v":11},null,null,null,100,null,"Cells(30, 9).Value = vso"]
[2,{"$f":"Sheet1!B44","v":"2016-02-10"},{"$f":"IF(Sheet1!E44=-1,0,Sheet1!E44)","v":17.399999999999999},{"$f":"Sheet1!F44","v":3.2},null,null,null,100]
[2,{"$f":"Sheet1!B45","v":"2016-02-11"},{"$f":"IF(Sheet1!E45=-1,0,Sheet1!E45)","v":5.5},{"$f":"Sheet1!F45","v":2},null,null,null,100]
[2,{"$f":"Sheet1!B46","v":"2016-02-12"},{"$f":"IF(Sheet1!E46=-1,0,Sheet1!E46)","v":0},{"$f":"Sheet1!F46","v":0.2},null,null,null,100]
[2,{"$f":"Sheet1!B47","v":"2016-02-13"},{"$f":"IF(Sheet1!E47=-1,0,Sheet1!E47)","v":18.2},{"$f":"Sheet1!F47","v":2.2999999999999998},null,null,null,100]
[2,{"$f":"Sheet1!B48","v":"2016-02-14"},{"$f":"IF(Sheet1!E48=-1,0,Sheet1!E48)","v":0.7},{"$f":"Sheet1!F48","v":4.8},null,null,null,100]
[2,{"$f":"Sheet1!B49","v":"2016-02-15"},{"$f":"IF(Sheet1!E49=-1,0,Sheet1!E49)","v":12.2},{"$f":"Sheet1!F49","v":3.4},null,null,null,100]
[2,{"$f":"Sheet1!B50","v":"2016-02-16"},{"$f":"IF(Sheet1!E50=-1,0,Sheet1!E50)","v":27.3},{"$f":"Sheet1!F50","v":3.4},null,null,null,100]
[2,{"$f":"Sheet1!B51","v":"2016-02-17"},{"$f":"IF(Sheet1!E51=-1,0,Sheet1!E51)","v":12.3},{"$f":"Sheet1!F51","v":1.1000000000000001},null,null,null,100]
[2,{"$f":"Sheet1!B52","v":"2016-02-18"},{"$f":"IF(Sheet1!E52=-1,0,Sheet1!E52)","v":15.9},{"$f":"Sheet1!F52","v":3.2},null,null,null,100]
[2,{"$f":"Sheet1!B53","v":"2016-02-19"},{"$f":"IF(Sheet1!E53=-1,0,Sheet1!E53)","v":23.5},{"$f":"Sheet1!F53","v":4.2},null,null,null,100]
[2,{"$f":"Sheet1!B54","v":"2016-02-20"},{"$f":"IF(Sheet1!E54=-1,0,Sheet1!E54)","v":9.6},{"$f":"Sheet1!F54","v":2.9},null,null,null,100]
[2,{"$f":"Sheet1!B55","v":"2016-02-21"},{"$f":"IF(Sheet1!E55=-1,0,Sheet1!E55)","v":0},{"$f":"Sheet1!F55","v":7.9},null,null,null,100]
[2,{"$f":"Sheet1!B56","v":"2016-02-22"},{"$f":"IF(Sheet1!E56=-1,0,Sheet1!E56)","v":0},{"$f":"Sheet1!F56","v":11.4},null,null,null,100]
[2,{"$f":"Sheet1!B57","v":"2016-02-23"},{"$f":"IF(Sheet1!E57=-1,0,Sheet1!E57)","v":0.2},{"$f":"Sheet1!F57","v":9.6999999999999993},null,null,null,100]
[2,{"$f":"Sheet1!B58","v":"2016-02-24"},{"$f":"IF(Sheet1!E58=-1,0,Sheet1!E58)","v":1.5},{"$f":"Sheet1!F58","v":3.7},null,null,null,100]
[2,{"$f":"Sheet1!B59","v":"2016-02-25"},{"$f":"IF(Sheet1!E59=-1,0,Sheet1!E59)","v":0},{"$f":"Sheet1!F59","v":5.6},null,null,null,100]
[2,{"$f":"Sheet1!B60","v":"2016-02-26"},{"$f":"IF(Sheet1!E60=-1,0,Sheet1!E60)","v":0.6},{"$f":"Sheet1!F60","v":2},null,null,null,100]
[2,{"$f":"Sheet1!B61","v":"2016-02-27"},{"$f":"IF(Sheet1!E61=-1,0,Sheet1!E61)","v":0.2},{"$f":"Sheet1!F61","v":2.2000000000000002}]
[2,{"$f":"Sheet1!B62","v":"2016-02-28"},{"$f":"IF(Sheet1!E62=-1,0,Sheet1!E62)","v":0.3},{"$f":"Sheet1!F62","v":4.8}]
[2,{"$f":"Sheet1!B63","v":"2016-02-29"},{"$f":"IF(Sheet1!E63=-1,0,Sheet1!E63)","v":9},{"$f":"Sheet1!F63","v":6.5}]
[3,{"$f":"Sheet1!B64","v":"2016-03-01"},{"$f":"IF(Sheet1!E64=-1,0,Sheet1!E64)","v":7.9},{"$f":"Sheet1!F64","v":5.9}]
[3,{"$f":"Sheet1!B65","v":"2016-03-02"},{"$f":"IF(Sheet1!E65=-1,0,Sheet1!E65)","v":0},{"$f":"Sheet1!F65","v":5}]
[3,{"$f":"Sheet1!B66","v":"2016-03-03"},{"$f":"IF(Sheet1!E66=-1,0,Sheet1!E66)","v":10.9},{"$f":"Sheet1!F66","v":2.2000000000000002}]
[3,{"$f":"Sheet1!B67","v":"2016-03-04"},{"$f":"IF(Sheet1!E67=-1,0,Sheet1!E67)","v":19.100000000000001},{"$f":"Sheet1!F67","v":4.5999999999999996}]
[3,{"$f":"Sheet1!B68","v":"2016-03-05"},{"$f":"IF(Sheet1!E68=-1,0,Sheet1!E68)","v":0},{"$f":"Sheet1!F68","v":9.1}]
[{"$f":"IF(B69<>\"\",MONTH(B69),\"\")","v":3},{"$f":"Sheet1!B69","v":"2016-03-06"},{"$f":"IF(Sheet1!E69=-1,0,Sheet1!E69)","v":4.8},{"$f":"Sheet1!F69","v":6.5}]
[3,{"$f":"Sheet1!B70","v":"2016-03-07"},{"$f":"IF(Sheet1!E70=-1,0,Sheet1!E70)","v":8.5},{"$f":"Sheet1!F70","v":2.4}]
[3,{"$f":"Sheet1!B71","v":"2016-03-08"},{"$f":"IF(Sheet1!E71=-1,0,Sheet1!E71)","v":4.8},{"$f":"Sheet1!F71","v":4.9000000000000004}]
[3,{"$f":"Sheet1!B72","v":"2016-03-09"},{"$f":"IF(Sheet1!E72=-1,0,Sheet1!E72)","v":0},{"$f":"Sheet1!F72","v":4.5}]
[3,{"$f":"Sheet1!B73","v":"2016-03-10"},{"$f":"IF(Sheet1!E73=-1,0,Sheet1!E73)","v":0},{"$f":"Sheet1!F73","v":6.2}]
[3,{"$f":"Sheet1!B74","v":"2016-03-11"},{"$f":"IF(Sheet1!E74=-1,0,Sheet1!E74)","v":0.3},{"$f":"Sheet1!F74","v":7}]
[3,{"$f":"Sheet1!B75","v":"2016-03-12"},{"$f":"IF(Sheet1!E75=-1,0,Sheet1!E75)","v":1},{"$f":"Sheet1!F75","v":6.8}]
[3,{"$f":"Sheet1!B76","v":"2016-03-13"},{"$f":"IF(Sheet1!E76=-1,0,Sheet1!E76)","v":0},{"$f":"Sheet1!F76","v":5.4}]
[3,{"$f":"Sheet1!B77","v":"2016-03-14"},{"$f":"IF(Sheet1!E77=-1,0,Sheet1!E77)","v":0.1},{"$f":"Sheet1!F77","v":4.3}]
[3,{"$f":"Sheet1!B78","v":"2016-03-15"},{"$f":"IF(Sheet1!E78=-1,0,Sheet1!E78)","v":0},{"$f":"Sheet1!F78","v":1.3}]
[3,{"$f":"Sheet1!B79","v":"2016-03-16"},{"$f":"IF(Sheet1!E79=-1,0,Sheet1!E79)","v":1.2},{"$f":"Sheet1!F79","v":2.9}]
[3,{"$f":"Sheet1!B80","v":"2016-03-17"},{"$f":"IF(Sheet1!E80=-1,0,Sheet1!E80)","v":0},{"$f":"Sheet1!F80","v":3.3}]
[3,{"$f":"Sheet1!B81","v":"2016-03-18"},{"$f":"IF(Sheet1!E81=-1,0,Sheet1!E81)","v":0},{"$f":"Sheet1!F81","v":5.4}]
[3,{"$f":"Sheet1!B82","v":"2016-03-19"},{"$f":"IF(Sheet1!E82=-1,0,Sheet1!E82)","v":0},{"$f":"Sheet1!F82","v":8.6}]
[3,{"$f":"Sheet1!B83","v":"2016-03-20"},{"$f":"IF(Sheet1!E83=-1,0,Sheet1!E83)","v":0},{"$f":"Sheet1!F83","v":10}]
[3,{"$f":"Sheet1!B84","v":"2016-03-21"},{"$f":"IF(Sheet1!E84=-1,0,Sheet1!E84)","v":0},{"$f":"Sheet1!F84","v":8}]
[3,{"$f":"Sheet1!B85","v":"2016-03-22"},{"$f":"IF(Sheet1!E85=-1,0,Sheet1!E85)","v":0.1},{"$f":"Sheet1!F85","v":6.9}]
[3,{"$f":"Sheet1!B86","v":"2016-03-23"},{"$f":"IF(Sheet1!E86=-1,0,Sheet1!E86)","v":0},{"$f":"Sheet1!F86","v":7.1}]
[3,{"$f":"Sheet1!B87","v":"2016-03-24"},{"$f":"IF(Sheet1!E87=-1,0,Sheet1!E87)","v":0.4},{"$f":"Sheet1!F87","v":3.8}]
[3,{"$f":"Sheet1!B88","v":"2016-03-25"},{"$f":"IF(Sheet1!E88=-1,0,Sheet1!E88)","v":0},{"$f":"Sheet1!F88","v":6.6}]
[3,{"$f":"Sheet1!B89","v":"2016-03-26"},{"$f":"IF(Sheet1!E89=-1,0,Sheet1!E89)","v":0.1},{"$f":"Sheet1!F89","v":6.2}]
[3,{"$f":"Sheet1!B90","v":"2016-03-27"},{"$f":"IF(Sheet1!E90=-1,0,Sheet1!E90)","v":0.4},{"$f":"Sheet1!F90","v":7.2}]
[3,{"$f":"Sheet1!B91","v":"2016-03-28"},{"$f":"IF(Sheet1!E91=-1,0,Sheet1!E91)","v":0},{"$f":"Sheet1!F91","v":9.1999999999999993}]
[3,{"$f":"Sheet1!B92","v":"2016-03-29"},{"$f":"IF(Sheet1!E92=-1,0,Sheet1!E92)","v":0},{"$f":"Sheet1!F92","v":11.2}]
[3,{"$f":"Sheet1!B93","v":"2016-03-30"},{"$f":"IF(Sheet1!E93=-1,0,Sheet1!E93)","v":0},{"$f":"Sheet1!F93","v":13}]
[3,{"$f":"Sheet1!B94","v":"2016-03-31"},{"$f":"IF(Sheet1!E94=-1,0,Sheet1!E94)","v":0},{"$f":"Sheet1!F94","v":15.7}]
[4,{"$f":"Sheet1!B95","v":"2016-04-01"},{"$f":"IF(Sheet1!E95=-1,0,Sheet1!E95)","v":0},{"$f":"Sheet1!F95","v":14.6}]
[4,{"$f":"Sheet1!B96","v":"2016-04-02"},{"$f":"IF(Sheet1!E96=-1,0,Sheet1!E96)","v":0},{"$f":"Sheet1!F96","v":9.4}]
[4,{"$f":"Sheet1!B97","v":"2016-04-03"},{"$f":"IF(Sheet1!E97=-1,0,Sheet1!E97)","v":0},{"$f":"Sheet1!F97","v":11.8}]
[4,{"$f":"Sheet1!B98","v":"2016-04-04"},{"$f":"IF(Sheet1!E98=-1,0,Sheet1!E98)","v":0},{"$f":"Sheet1!F98","v":16}]
[4,{"$f":"Sheet1!B99","v":"2016-04-05"},{"$f":"IF(Sheet1!E99=-1,0,Sheet1!E99)","v":0},{"$f":"Sheet1!F99","v":17.100000000000001}]
[4,{"$f":"Sheet1!B100","v":"2016-04-06"},{"$f":"IF(Sheet1!E100=-1,0,Sheet1!E100)","v":0},{"$f":"Sheet1!F100","v":18.100000000000001}]
[4,{"$f":"Sheet1!B101","v":"2016-04-07"},{"$f":"IF(Sheet1!E101=-1,0,Sheet1!E101)","v":0},{"$f":"Sheet1!F101","v":13.3}]
[4,{"$f":"Sheet1!B102","v":"2016-04-08"},{"$f":"IF(Sheet1!E102=-1,0,Sheet1!E102)","v":0},{"$f":"Sheet1!F102","v":10.199999999999999}]
[4,{"$f":"Sheet1!B103","v":"2016-04-09"},{"$f":"IF(Sheet1!E103=-1,0,Sheet1!E103)","v":7.3},{"$f":"Sheet1!F103","v":10.9}]
[4,{"$f":"Sheet1!B104","v":"2016-04-10"},{"$f":"IF(Sheet1!E104=-1,0,Sheet1!E104)","v":1.9},{"$f":"Sheet1!F104","v":12.5}]
[4,{"$f":"Sheet1!B105","v":"2016-04-11"},{"$f":"IF(Sheet1!E105=-1,0,Sheet1!E105)","v":0},{"$f":"Sheet1!F105","v":13.7}]
[4,{"$f":"Sheet1!B106","v":"2016-04-12"},{"$f":"IF(Sheet1!E106=-1,0,Sheet1!E106)","v":0},{"$f":"Sheet1!F106","v":13.6}]
[4,{"$f":"Sheet1!B107","v":"2016-04-13"},{"$f":"IF(Sheet1!E107=-1,0,Sheet1!E107)","v":0},{"$f":"Sheet1!F107","v":16.100000000000001}]
[4,{"$f":"Sheet1!B108","v":"2016-04-14"},{"$f":"IF(Sheet1!E108=-1,0,Sheet1!E108)","v":0.4},{"$f":"Sheet1!F108","v":10.1}]
[4,{"$f":"Sheet1!B109","v":"2016-04-15"},{"$f":"IF(Sheet1!E109=-1,0,Sheet1!E109)","v":14.2},{"$f":"Sheet1!F109","v":14}]
[4,{"$f":"Sheet1!B110","v":"2016-04-16"},{"$f":"IF(Sheet1!E110=-1,0,Sheet1!E110)","v":0},{"$f":"Sheet1!F110","v":16.600000000000001}]
[4,{"$f":"Sheet1!B111","v":"2016-04-17"},{"$f":"IF(Sheet1!E111=-1,0,Sheet1!E111)","v":0},{"$f":"Sheet1!F111","v":15.7}]
[4,{"$f":"Sheet1!B112","v":"2016-04-18"},{"$f":"IF(Sheet1!E112=-1,0,Sheet1!E112)","v":0},{"$f":"Sheet1!F112","v":12.8}]
[4,{"$f":"Sheet1!B113","v":"2016-04-19"},{"$f":"IF(Sheet1!E113=-1,0,Sheet1!E113)","v":1.2},{"$f":"Sheet1!F113","v":8.9}]
[4,{"$f":"Sheet1!B114","v":"2016-04-20"},{"$f":"IF(Sheet1!E114=-1,0,Sheet1!E114)","v":0},{"$f":"Sheet1!F114","v":8.1}]
[4,{"$f":"Sheet1!B115","v":"2016-04-21"},{"$f":"IF(Sheet1!E115=-1,0,Sheet1!E115)","v":0},{"$f":"Sheet1!F115","v":11.3}]
[4,{"$f":"Sheet1!B116","v":"2016-04-22"},{"$f":"IF(Sheet1!E116=-1,0,Sheet1!E116)","v":0},{"$f":"Sheet1!F116","v":13.1}]
[4,{"$f":"Sheet1!B117","v":"2016-04-23"},{"$f":"IF(Sheet1!E117=-1,0,Sheet1!E117)","v":0},{"$f":"Sheet1!F117","v":11.1}]
[4,{"$f":"Sheet1!B118","v":"2016-04-24"},{"$f":"IF(Sheet1!E118=-1,0,Sheet1!E118)","v":12.4},{"$f":"Sheet1!F118","v":7.1}]
[4,{"$f":"Sheet1!B119","v":"2016-04-25"},{"$f":"IF(Sheet1!E119=-1,0,Sheet1!E119)","v":0.1},{"$f":"Sheet1!F119","v":4.4000000000000004}]
[4,{"$f":"Sheet1!B120","v":"2016-04-26"},{"$f":"IF(Sheet1!E120=-1,0,Sheet1!E120)","v":0},{"$f":"Sheet1!F120","v":7.5}]
[4,{"$f":"Sheet1!B121","v":"2016-04-27"},{"$f":"IF(Sheet1!E121=-1,0,Sheet1!E121)","v":0},{"$f":"Sheet1!F121","v":3.1}]
[4,{"$f":"Sheet1!B122","v":"2016-04-28"},{"$f":"IF(Sheet1!E122=-1,0,Sheet1!E122)","v":30.8},{"$f":"Sheet1!F122","v":2.6}]
[4,{"$f":"Sheet1!B123","v":"2016-04-29"},{"$f":"IF(Sheet1!E123=-1,0,Sheet1!E123)","v":0},{"$f":"Sheet1!F123","v":6.8}]
[4,{"$f":"Sheet1!B124","v":"2016-04-30"},{"$f":"IF(Sheet1!E124=-1,0,Sheet1!E124)","v":0},{"$f":"Sheet1!F124","v":10.199999999999999}]
[5,{"$f":"Sheet1!B125","v":"2016-05-01"},{"$f":"IF(Sheet1!E125=-1,0,Sheet1!E125)","v":0},{"$f":"Sheet1!F125","v":9.8000000000000007}]
[5,{"$f":"Sheet1!B126","v":"2016-05-02"},{"$f":"IF(Sheet1!E126=-1,0,Sheet1!E126)","v":25.5},{"$f":"Sheet1!F126","v":11.3}]
[5,{"$f":"Sheet1!B127","v":"2016-05-03"},{"$f":"IF(Sheet1!E127=-1,0,Sheet1!E127)","v":3.5},{"$f":"Sheet1!F127","v":12.5}]
[5,{"$f":"Sheet1!B128","v":"2016-05-04"},{"$f":"IF(Sheet1!E128=-1,0,Sheet1!E128)","v":0},{"$f":"Sheet1!F128","v":11.5}]
[5,{"$f":"Sheet1!B129","v":"2016-05-05"},{"$f":"IF(Sheet1!E129=-1,0,Sheet1!E129)","v":2.8},{"$f":"Sheet1!F129","v":12.1}]
[5,{"$f":"Sheet1!B130","v":"2016-05-06"},{"$f":"IF(Sheet1!E130=-1,0,Sheet1!E130)","v":0},{"$f":"Sheet1!F130","v":14.1}]
[5,{"$f":"Sheet1!B131","v":"2016-05-07"},{"$f":"IF(Sheet1!E131=-1,0,Sheet1!E131)","v":0},{"$f":"Sheet1!F131","v":13.3}]
[5,{"$f":"Sheet1!B132","v":"2016-05-08"},{"$f":"IF(Sheet1!E132=-1,0,Sheet1!E132)","v":10.9},{"$f":"Sheet1!F132","v":12.5}]
[{"$f":"IF(B133<>\"\",MONTH(B133),\"\")","v":5},{"$f":"Sheet1!B133","v":"2016-05-09"},{"$f":"IF(Sheet1!E133=-1,0,Sheet1!E133)","v":6.4},{"$f":"Sheet1!F133","v":14.6}]
[5,{"$f":"Sheet1!B134","v":"2016-05-10"},{"$f":"IF(Sheet1!E134=-1,0,Sheet1!E134)","v":0},{"$f":"Sheet1!F134","v":14.1}]
[5,{"$f":"Sheet1!B135","v":"2016-05-11"},{"$f":"IF(Sheet1!E135=-1,0,Sheet1!E135)","v":1.2},{"$f":"Sheet1!F135","v":13.7}]
[5,{"$f":"Sheet1!B136","v":"2016-05-12"},{"$f":"IF(Sheet1!E136=-1,0,Sheet1!E136)","v":8.1999999999999993},{"$f":"Sheet1!F136","v":13.8}]
[5,{"$f":"Sheet1!B137","v":"2016-05-13"},{"$f":"IF(Sheet1!E137=-1,0,Sheet1!E137)","v":8.6},{"$f":"Sheet1!F137","v":14.8}]
[5,{"$f":"Sheet1!B138","v":"2016-05-14"},{"$f":"IF(Sheet1!E138=-1,0,Sheet1!E138)","v":4.5},{"$f":"Sheet1!F138","v":13.9}]
[5,{"$f":"Sheet1!B139","v":"2016-05-15"},{"$f":"IF(Sheet1!E139=-1,0,Sheet1!E139)","v":23.5},{"$f":"Sheet1!F139","v":10}]
[5,{"$f":"Sheet1!B140","v":"2016-05-16"},{"$f":"IF(Sheet1!E140=-1,0,Sheet1!E140)","v":7.1},{"$f":"Sheet1!F140","v":9.1999999999999993}]
[5,{"$f":"Sheet1!B141","v":"2016-05-17"},{"$f":"IF(Sheet1!E141=-1,0,Sheet1!E141)","v":0},{"$f":"Sheet1!F141","v":10.1}]
[5,{"$f":"Sheet1!B142","v":"2016-05-18"},{"$f":"IF(Sheet1!E142=-1,0,Sheet1!E142)","v":0.1},{"$f":"Sheet1!F142","v":12.5}]
[5,{"$f":"Sheet1!B143","v":"2016-05-19"},{"$f":"IF(Sheet1!E143=-1,0,Sheet1!E143)","v":0},{"$f":"Sheet1!F143","v":14.3}]
[5,{"$f":"Sheet1!B144","v":"2016-05-20"},{"$f":"IF(Sheet1!E144=-1,0,Sheet1!E144)","v":0.3},{"$f":"Sheet1!F144","v":15.1}]
[5,{"$f":"Sheet1!B145","v":"2016-05-21"},{"$f":"IF(Sheet1!E145=-1,0,Sheet1!E145)","v":0},{"$f":"Sheet1!F145","v":16.7}]
[5,{"$f":"Sheet1!B146","v":"2016-05-22"},{"$f":"IF(Sheet1!E146=-1,0,Sheet1!E146)","v":0},{"$f":"Sheet1!F146","v":18.399999999999999}]
[5,{"$f":"Sheet1!B147","v":"2016-05-23"},{"$f":"IF(Sheet1!E147=-1,0,Sheet1!E147)","v":0},{"$f":"Sheet1!F147","v":17.7}]
[5,{"$f":"Sheet1!B148","v":"2016-05-24"},{"$f":"IF(Sheet1!E148=-1,0,Sheet1!E148)","v":19.3},{"$f":"Sheet1!F148","v":12.4}]
[5,{"$f":"Sheet1!B149","v":"2016-05-25"},{"$f":"IF(Sheet1!E149=-1,0,Sheet1!E149)","v":0.4},{"$f":"Sheet1!F149","v":18.3}]
[5,{"$f":"Sheet1!B150","v":"2016-05-26"},{"$f":"IF(Sheet1!E150=-1,0,Sheet1!E150)","v":0},{"$f":"Sheet1!F150","v":19.3}]
[5,{"$f":"Sheet1!B151","v":"2016-05-27"},{"$f":"IF(Sheet1!E151=-1,0,Sheet1!E151)","v":2},{"$f":"Sheet1!F151","v":20.9}]
[5,{"$f":"Sheet1!B152","v":"2016-05-28"},{"$f":"IF(Sheet1!E152=-1,0,Sheet1!E152)","v":0},{"$f":"Sheet1!F152","v":21.4}]
[5,{"$f":"Sheet1!B153","v":"2016-05-29"},{"$f":"IF(Sheet1!E153=-1,0,Sheet1!E153)","v":0},{"$f":"Sheet1!F153","v":19.8}]
[5,{"$f":"Sheet1!B154","v":"2016-05-30"},{"$f":"IF(Sheet1!E154=-1,0,Sheet1!E154)","v":1.8},{"$f":"Sheet1!F154","v":16.3}]
[5,{"$f":"Sheet1!B155","v":"2016-05-31"},{"$f":"IF(Sheet1!E155=-1,0,Sheet1!E155)","v":2.9},{"$f":"Sheet1!F155","v":16.899999999999999}]
[6,{"$f":"Sheet1!B156","v":"2016-06-01"},{"$f":"IF(Sheet1!E156=-1,0,Sheet1!E156)","v":3.9},{"$f":"Sheet1!F156","v":17.399999999999999}]
[6,{"$f":"Sheet1!B157","v":"2016-06-02"},{"$f":"IF(Sheet1!E157=-1,0,Sheet1!E157)","v":0},{"$f":"Sheet1!F157","v":17}]
[6,{"$f":"Sheet1!B158","v":"2016-06-03"},{"$f":"IF(Sheet1!E158=-1,0,Sheet1!E158)","v":0},{"$f":"Sheet1!F158","v":17.100000000000001}]
[6,{"$f":"Sheet1!B159","v":"2016-06-04"},{"$f":"IF(Sheet1!E159=-1,0,Sheet1!E159)","v":0},{"$f":"Sheet1!F159","v":18.899999999999999}]
[6,{"$f":"Sheet1!B160","v":"2016-06-05"},{"$f":"IF(Sheet1!E160=-1,0,Sheet1!E160)","v":0},{"$f":"Sheet1!F160","v":15.8}]
[6,{"$f":"Sheet1!B161","v":"2016-06-06"},{"$f":"IF(Sheet1!E161=-1,0,Sheet1!E161)","v":11.3},{"$f":"Sheet1!F161","v":17.899999999999999}]
[6,{"$f":"Sheet1!B162","v":"2016-06-07"},{"$f":"IF(Sheet1!E162=-1,0,Sheet1!E162)","v":0.1},{"$f":"Sheet1!F162","v":18.399999999999999}]
[6,{"$f":"Sheet1!B163","v":"2016-06-08"},{"$f":"IF(Sheet1!E163=-1,0,Sheet1!E163)","v":0},{"$f":"Sheet1!F163","v":18.3}]
[6,{"$f":"Sheet1!B164","v":"2016-06-09"},{"$f":"IF(Sheet1!E164=-1,0,Sheet1!E164)","v":3.4},{"$f":"Sheet1!F164","v":16.399999999999999}]
[6,{"$f":"Sheet1!B165","v":"2016-06-10"},{"$f":"IF(Sheet1!E165=-1,0,Sheet1!E165)","v":18.3},{"$f":"Sheet1!F165","v":15.9}]
[6,{"$f":"Sheet1!B166","v":"2016-06-11"},{"$f":"IF(Sheet1!E166=-1,0,Sheet1!E166)","v":0.8},{"$f":"Sheet1!F166","v":18.3}]
[6,{"$f":"Sheet1!B167","v":"2016-06-12"},{"$f":"IF(Sheet1!E167=-1,0,Sheet1!E167)","v":6.7},{"$f":"Sheet1!F167","v":17.2}]
[6,{"$f":"Sheet1!B168","v":"2016-06-13"},{"$f":"IF(Sheet1!E168=-1,0,Sheet1!E168)","v":0.6},{"$f":"Sheet1!F168","v":18.100000000000001}]
[6,{"$f":"Sheet1!B169","v":"2016-06-14"},{"$f":"IF(Sheet1!E169=-1,0,Sheet1!E169)","v":0.2},{"$f":"Sheet1!F169","v":17.600000000000001}]
[6,{"$f":"Sheet1!B170","v":"2016-06-15"},{"$f":"IF(Sheet1!E170=-1,0,Sheet1!E170)","v":27.3},{"$f":"Sheet1!F170","v":17.399999999999999}]
[6,{"$f":"Sheet1!B171","v":"2016-06-16"},{"$f":"IF(Sheet1!E171=-1,0,Sheet1!E171)","v":4.9000000000000004},{"$f":"Sheet1!F171","v":20.399999999999999}]
[6,{"$f":"Sheet1!B172","v":"2016-06-17"},{"$f":"IF(Sheet1!E172=-1,0,Sheet1!E172)","v":2.1},{"$f":"Sheet1!F172","v":19.600000000000001}]
[6,{"$f":"Sheet1!B173","v":"2016-06-18"},{"$f":"IF(Sheet1!E173=-1,0,Sheet1!E173)","v":0},{"$f":"Sheet1!F173","v":19.2}]
[6,{"$f":"Sheet1!B174","v":"2016-06-19"},{"$f":"IF(Sheet1!E174=-1,0,Sheet1!E174)","v":0.1},{"$f":"Sheet1!F174","v":15.5}]
[6,{"$f":"Sheet1!B175","v":"2016-06-20"},{"$f":"IF(Sheet1!E175=-1,0,Sheet1!E175)","v":20.100000000000001},{"$f":"Sheet1!F175","v":15.8}]
[6,{"$f":"Sheet1!B176","v":"2016-06-21"},{"$f":"IF(Sheet1!E176=-1,0,Sheet1!E176)","v":2.9},{"$f":"Sheet1!F176","v":19.2}]
[6,{"$f":"Sheet1!B177","v":"2016-06-22"},{"$f":"IF(Sheet1!E177=-1,0,Sheet1!E177)","v":0},{"$f":"Sheet1!F177","v":21.3}]
[6,{"$f":"Sheet1!B178","v":"2016-06-23"},{"$f":"IF(Sheet1!E178=-1,0,Sheet1!E178)","v":0},{"$f":"Sheet1!F178","v":22.9}]
[6,{"$f":"Sheet1!B179","v":"2016-06-24"},{"$f":"IF(Sheet1!E179=-1,0,Sheet1!E179)","v":0},{"$f":"Sheet1!F179","v":24.9}]
[6,{"$f":"Sheet1!B180","v":"2016-06-25"},{"$f":"IF(Sheet1!E180=-1,0,Sheet1!E180)","v":0},{"$f":"Sheet1!F180","v":22.1}]
[6,{"$f":"Sheet1!B181","v":"2016-06-26"},{"$f":"IF(Sheet1!E181=-1,0,Sheet1!E181)","v":5},{"$f":"Sheet1!F181","v":18.399999999999999}]
[6,{"$f":"Sheet1!B182","v":"2016-06-27"},{"$f":"IF(Sheet1!E182=-1,0,Sheet1!E182)","v":10.1},{"$f":"Sheet1!F182","v":17.100000000000001}]
[6,{"$f":"Sheet1!B183","v":"2016-06-28"},{"$f":"IF(Sheet1!E183=-1,0,Sheet1!E183)","v":2.7},{"$f":"Sheet1!F183","v":19}]
[6,{"$f":"Sheet1!B184","v":"2016-06-29"},{"$f":"IF(Sheet1!E184=-1,0,Sheet1!E184)","v":0},{"$f":"Sheet1!F184","v":21.5}]
[6,{"$f":"Sheet1!B185","v":"2016-06-30"},{"$f":"IF(Sheet1!E185=-1,0,Sheet1!E185)","v":0},{"$f":"Sheet1!F185","v":22.7}]
[7,{"$f":"Sheet1!B186","v":"2016-07-01"},{"$f":"IF(Sheet1!E186=-1,0,Sheet1!E186)","v":0},{"$f":"Sheet1!F186","v":22.5}]
[7,{"$f":"Sheet1!B187","v":"2016-07-02"},{"$f":"IF(Sheet1!E187=-1,0,Sheet1!E187)","v":0},{"$f":"Sheet1!F187","v":24.2}]
[7,{"$f":"Sheet1!B188","v":"2016-07-03"},{"$f":"IF(Sheet1!E188=-1,0,Sheet1!E188)","v":2.9},{"$f":"Sheet1!F188","v":15.9}]
[7,{"$f":"Sheet1!B189","v":"2016-07-04"},{"$f":"IF(Sheet1!E189=-1,0,Sheet1!E189)","v":3.8},{"$f":"Sheet1!F189","v":18.8}]
[7,{"$f":"Sheet1!B190","v":"2016-07-05"},{"$f":"IF(Sheet1!E190=-1,0,Sheet1!E190)","v":0},{"$f":"Sheet1!F190","v":21.8}]
[7,{"$f":"Sheet1!B191","v":"2016-07-06"},{"$f":"IF(Sheet1!E191=-1,0,Sheet1!E191)","v":0.5},{"$f":"Sheet1!F191","v":19.8}]
[7,{"$f":"Sheet1!B192","v":"2016-07-07"},{"$f":"IF(Sheet1!E192=-1,0,Sheet1!E192)","v":9.3000000000000007},{"$f":"Sheet1!F192","v":19.600000000000001}]
[7,{"$f":"Sheet1!B193","v":"2016-07-08"},{"$f":"IF(Sheet1!E193=-1,0,Sheet1!E193)","v":0},{"$f":"Sheet1!F193","v":21.8}]
[7,{"$f":"Sheet1!B194","v":"2016-07-09"},{"$f":"IF(Sheet1!E194=-1,0,Sheet1!E194)","v":0},{"$f":"Sheet1!F194","v":22.2}]
[7,{"$f":"Sheet1!B195","v":"2016-07-10"},{"$f":"IF(Sheet1!E195=-1,0,Sheet1!E195)","v":0},{"$f":"Sheet1!F195","v":24.3}]
[7,{"$f":"Sheet1!B196","v":"2016-07-11"},{"$f":"IF(Sheet1!E196=-1,0,Sheet1!E196)","v":0},{"$f":"Sheet1!F196","v":25.6}]
[{"$f":"IF(B197<>\"\",MONTH(B197),\"\")","v":7},{"$f":"Sheet1!B197","v":"2016-07-12"},{"$f":"IF(Sheet1!E197=-1,0,Sheet1!E197)","v":0},{"$f":"Sheet1!F197","v":25.4}]
[7,{"$f":"Sheet1!B198","v":"2016-07-13"},{"$f":"IF(Sheet1!E198=-1,0,Sheet1!E198)","v":0},{"$f":"Sheet1!F198","v":22}]
[7,{"$f":"Sheet1!B199","v":"2016-07-14"},{"$f":"IF(Sheet1!E199=-1,0,Sheet1!E199)","v":20.9},{"$f":"Sheet1!F199","v":17.3}]
[7,{"$f":"Sheet1!B200","v":"2016-07-15"},{"$f":"IF(Sheet1!E200=-1,0,Sheet1!E200)","v":0},{"$f":"Sheet1!F200","v":17.100000000000001}]
[7,{"$f":"Sheet1!B201","v":"2016-07-16"},{"$f":"IF(Sheet1!E201=-1,0,Sheet1!E201)","v":0.1},{"$f":"Sheet1!F201","v":15.5}]
[7,{"$f":"Sheet1!B202","v":"2016-07-17"},{"$f":"IF(Sheet1!E202=-1,0,Sheet1!E202)","v":0.1},{"$f":"Sheet1!F202","v":17.7}]
[7,{"$f":"Sheet1!B203","v":"2016-07-18"},{"$f":"IF(Sheet1!E203=-1,0,Sheet1!E203)","v":0},{"$f":"Sheet1!F203","v":20.8}]
[7,{"$f":"Sheet1!B204","v":"2016-07-19"},{"$f":"IF(Sheet1!E204=-1,0,Sheet1!E204)","v":0},{"$f":"Sheet1!F204","v":21.3}]
[7,{"$f":"Sheet1!B205","v":"2016-07-20"},{"$f":"IF(Sheet1!E205=-1,0,Sheet1!E205)","v":0},{"$f":"Sheet1!F205","v":22.2}]
[7,{"$f":"Sheet1!B206","v":"2016-07-21"},{"$f":"IF(Sheet1!E206=-1,0,Sheet1!E206)","v":3.4},{"$f":"Sheet1!F206","v":23.3}]
[7,{"$f":"Sheet1!B207","v":"2016-07-22"},{"$f":"IF(Sheet1!E207=-1,0,Sheet1!E207)","v":0},{"$f":"Sheet1!F207","v":23.9}]
[7,{"$f":"Sheet1!B208","v":"2016-07-23"},{"$f":"IF(Sheet1!E208=-1,0,Sheet1!E208)","v":0},{"$f":"Sheet1!F208","v":23.8}]
[7,{"$f":"Sheet1!B209","v":"2016-07-24"},{"$f":"IF(Sheet1!E209=-1,0,Sheet1!E209)","v":0},{"$f":"Sheet1!F209","v":23.6}]
[7,{"$f":"Sheet1!B210","v":"2016-07-25"},{"$f":"IF(Sheet1!E210=-1,0,Sheet1!E210)","v":1.8},{"$f":"Sheet1!F210","v":22.5}]
[7,{"$f":"Sheet1!B211","v":"2016-07-26"},{"$f":"IF(Sheet1!E211=-1,0,Sheet1!E211)","v":0},{"$f":"Sheet1!F211","v":22.2}]
[7,{"$f":"Sheet1!B212","v":"2016-07-27"},{"$f":"IF(Sheet1!E212=-1,0,Sheet1!E212)","v":1.3},{"$f":"Sheet1!F212","v":21.3}]
[7,{"$f":"Sheet1!B213","v":"2016-07-28"},{"$f":"IF(Sheet1!E213=-1,0,Sheet1!E213)","v":19.2},{"$f":"Sheet1!F213","v":20.9}]
[7,{"$f":"Sheet1!B214","v":"2016-07-29"},{"$f":"IF(Sheet1!E214=-1,0,Sheet1!E214)","v":3.5},{"$f":"Sheet1!F214","v":22.3}]
[7,{"$f":"Sheet1!B215","v":"2016-07-30"},{"$f":"IF(Sheet1!E215=-1,0,Sheet1!E215)","v":0},{"$f":"Sheet1!F215","v":24.6}]
[7,{"$f":"Sheet1!B216","v":"2016-07-31"},{"$f":"IF(Sheet1!E216=-1,0,Sheet1!E216)","v":0},{"$f":"Sheet1!F216","v":23.2}]
[8,{"$f":"Sheet1!B217","v":"2016-08-01"},{"$f":"IF(Sheet1!E217=-1,0,Sheet1!E217)","v":39},{"$f":"Sheet1!F217","v":18.399999999999999}]
[8,{"$f":"Sheet1!B218","v":"2016-08-02"},{"$f":"IF(Sheet1!E218=-1,0,Sheet1!E218)","v":0.6},{"$f":"Sheet1!F218","v":19.3}]
[8,{"$f":"Sheet1!B219","v":"2016-08-03"},{"$f":"IF(Sheet1!E219=-1,0,Sheet1!E219)","v":0},{"$f":"Sheet1!F219","v":21.1}]
[8,{"$f":"Sheet1!B220","v":"2016-08-04"},{"$f":"IF(Sheet1!E220=-1,0,Sheet1!E220)","v":0},{"$f":"Sheet1!F220","v":22.1}]
[8,{"$f":"Sheet1!B221","v":"2016-08-05"},{"$f":"IF(Sheet1!E221=-1,0,Sheet1!E221)","v":0},{"$f":"Sheet1!F221","v":19.5}]
[8,{"$f":"Sheet1!B222","v":"2016-08-06"},{"$f":"IF(Sheet1!E222=-1,0,Sheet1!E222)","v":20.2},{"$f":"Sheet1!F222","v":18.100000000000001}]
[8,{"$f":"Sheet1!B223","v":"2016-08-07"},{"$f":"IF(Sheet1!E223=-1,0,Sheet1!E223)","v":0},{"$f":"Sheet1!F223","v":18.8}]
[8,{"$f":"Sheet1!B224","v":"2016-08-08"},{"$f":"IF(Sheet1!E224=-1,0,Sheet1!E224)","v":0},{"$f":"Sheet1!F224","v":18.600000000000001}]
[8,{"$f":"Sheet1!B225","v":"2016-08-09"},{"$f":"IF(Sheet1!E225=-1,0,Sheet1!E225)","v":0},{"$f":"Sheet1!F225","v":19.7}]
[8,{"$f":"Sheet1!B226","v":"2016-08-10"},{"$f":"IF(Sheet1!E226=-1,0,Sheet1!E226)","v":0},{"$f":"Sheet1!F226","v":13.9}]
[8,{"$f":"Sheet1!B227","v":"2016-08-11"},{"$f":"IF(Sheet1!E227=-1,0,Sheet1!E227)","v":27.3},{"$f":"Sheet1!F227","v":13.1}]
[8,{"$f":"Sheet1!B228","v":"2016-08-12"},{"$f":"IF(Sheet1!E228=-1,0,Sheet1!E228)","v":5.8},{"$f":"Sheet1!F228","v":15}]
[8,{"$f":"Sheet1!B229","v":"2016-08-13"},{"$f":"IF(Sheet1!E229=-1,0,Sheet1!E229)","v":0},{"$f":"Sheet1!F229","v":18.8}]
[8,{"$f":"Sheet1!B230","v":"2016-08-14"},{"$f":"IF(Sheet1!E230=-1,0,Sheet1!E230)","v":0},{"$f":"Sheet1!F230","v":20.3}]
[8,{"$f":"Sheet1!B231","v":"2016-08-15"},{"$f":"IF(Sheet1!E231=-1,0,Sheet1!E231)","v":0},{"$f":"Sheet1!F231","v":21}]
[8,{"$f":"Sheet1!B232","v":"2016-08-16"},{"$f":"IF(Sheet1!E232=-1,0,Sheet1!E232)","v":9.3000000000000007},{"$f":"Sheet1!F232","v":20.399999999999999}]
[8,{"$f":"Sheet1!B233","v":"2016-08-17"},{"$f":"IF(Sheet1!E233=-1,0,Sheet1!E233)","v":0},{"$f":"Sheet1!F233","v":18.7}]
[8,{"$f":"Sheet1!B234","v":"2016-08-18"},{"$f":"IF(Sheet1!E234=-1,0,Sheet1!E234)","v":3.8},{"$f":"Sheet1!F234","v":19.100000000000001}]
[8,{"$f":"Sheet1!B235","v":"2016-08-19"},{"$f":"IF(Sheet1!E235=-1,0,Sheet1!E235)","v":0.6},{"$f":"Sheet1!F235","v":20.100000000000001}]
[8,{"$f":"Sheet1!B236","v":"2016-08-20"},{"$f":"IF(Sheet1!E236=-1,0,Sheet1!E236)","v":0},{"$f":"Sheet1!F236","v":21.7}]
[8,{"$f":"Sheet1!B237","v":"2016-08-21"},{"$f":"IF(Sheet1!E237=-1,0,Sheet1!E237)","v":22.8},{"$f":"Sheet1!F237","v":17.8}]
[8,{"$f":"Sheet1!B238","v":"2016-08-22"},{"$f":"IF(Sheet1!E238=-1,0,Sheet1!E238)","v":28.1},{"$f":"Sheet1!F238","v":17.7}]
[8,{"$f":"Sheet1!B239","v":"2016-08-23"},{"$f":"IF(Sheet1!E239=-1,0,Sheet1!E239)","v":0},{"$f":"Sheet1!F239","v":18.100000000000001}]
[8,{"$f":"Sheet1!B240","v":"2016-08-24"},{"$f":"IF(Sheet1!E240=-1,0,Sheet1!E240)","v":0},{"$f":"Sheet1!F240","v":18.8}]
[8,{"$f":"Sheet1!B241","v":"2016-08-25"},{"$f":"IF(Sheet1!E241=-1,0,Sheet1!E241)","v":0},{"$f":"Sheet1!F241","v":18}]
[8,{"$f":"Sheet1!B242","v":"2016-08-26"},{"$f":"IF(Sheet1!E242=-1,0,Sheet1!E242)","v":0},{"$f":"Sheet1!F242","v":18}]
[8,{"$f":"Sheet1!B243","v":"2016-08-27"},{"$f":"IF(Sheet1!E243=-1,0,Sheet1!E243)","v":0},{"$f":"Sheet1!F243","v":19.3}]
[8,{"$f":"Sheet1!B244","v":"2016-08-28"},{"$f":"IF(Sheet1!E244=-1,0,Sheet1!E244)","v":0},{"$f":"Sheet1!F244","v":20}]
[8,{"$f":"Sheet1!B245","v":"2016-08-29"},{"$f":"IF(Sheet1!E245=-1,0,Sheet1!E245)","v":0},{"$f":"Sheet1!F245","v":20.6}]
[8,{"$f":"Sheet1!B246","v":"2016-08-30"},{"$f":"IF(Sheet1!E246=-1,0,Sheet1!E246)","v":15.2},{"$f":"Sheet1!F246","v":19.100000000000001}]
[8,{"$f":"Sheet1!B247","v":"2016-08-31"},{"$f":"IF(Sheet1!E247=-1,0,Sheet1!E247)","v":0},{"$f":"Sheet1!F247","v":17.600000000000001}]
[9,{"$f":"Sheet1!B248","v":"2016-09-01"},{"$f":"IF(Sheet1!E248=-1,0,Sheet1!E248)","v":0},{"$f":"Sheet1!F248","v":19.8}]
[9,{"$f":"Sheet1!B249","v":"2016-09-02"},{"$f":"IF(Sheet1!E249=-1,0,Sheet1!E249)","v":0.1},{"$f":"Sheet1!F249","v":20.5}]
[9,{"$f":"Sheet1!B250","v":"2016-09-03"},{"$f":"IF(Sheet1!E250=-1,0,Sheet1!E250)","v":0},{"$f":"Sheet1!F250","v":19.600000000000001}]
[9,{"$f":"Sheet1!B251","v":"2016-09-04"},{"$f":"IF(Sheet1!E251=-1,0,Sheet1!E251)","v":0},{"$f":"Sheet1!F251","v":21.6}]
[9,{"$f":"Sheet1!B252","v":"2016-09-05"},{"$f":"IF(Sheet1!E252=-1,0,Sheet1!E252)","v":6.8},{"$f":"Sheet1!F252","v":17.3}]
[9,{"$f":"Sheet1!B253","v":"2016-09-06"},{"$f":"IF(Sheet1!E253=-1,0,Sheet1!E253)","v":1.2},{"$f":"Sheet1!F253","v":15}]
[9,{"$f":"Sheet1!B254","v":"2016-09-07"},{"$f":"IF(Sheet1!E254=-1,0,Sheet1!E254)","v":1.5},{"$f":"Sheet1!F254","v":18.3}]
[9,{"$f":"Sheet1!B255","v":"2016-09-08"},{"$f":"IF(Sheet1!E255=-1,0,Sheet1!E255)","v":0},{"$f":"Sheet1!F255","v":18.399999999999999}]
[9,{"$f":"Sheet1!B256","v":"2016-09-09"},{"$f":"IF(Sheet1!E256=-1,0,Sheet1!E256)","v":0},{"$f":"Sheet1!F256","v":19.100000000000001}]
[9,{"$f":"Sheet1!B257","v":"2016-09-10"},{"$f":"IF(Sheet1!E257=-1,0,Sheet1!E257)","v":0},{"$f":"Sheet1!F257","v":19.8}]
[9,{"$f":"Sheet1!B258","v":"2016-09-11"},{"$f":"IF(Sheet1!E258=-1,0,Sheet1!E258)","v":0},{"$f":"Sheet1!F258","v":18.7}]
[9,{"$f":"Sheet1!B259","v":"2016-09-12"},{"$f":"IF(Sheet1!E259=-1,0,Sheet1!E259)","v":0},{"$f":"Sheet1!F259","v":20.100000000000001}]
[9,{"$f":"Sheet1!B260","v":"2016-09-13"},{"$f":"IF(Sheet1!E260=-1,0,Sheet1!E260)","v":0},{"$f":"Sheet1!F260","v":18.399999999999999}]
[{"$f":"IF(B261<>\"\",MONTH(B261),\"\")","v":9},{"$f":"Sheet1!B261","v":"2016-09-14"},{"$f":"IF(Sheet1!E261=-1,0,Sheet1!E261)","v":0},{"$f":"Sheet1!F261","v":18.3}]
[9,{"$f":"Sheet1!B262","v":"2016-09-15"},{"$f":"IF(Sheet1!E262=-1,0,Sheet1!E262)","v":0},{"$f":"Sheet1!F262","v":18.7}]
[9,{"$f":"Sheet1!B263","v":"2016-09-16"},{"$f":"IF(Sheet1!E263=-1,0,Sheet1!E263)","v":2.4},{"$f":"Sheet1!F263","v":18.600000000000001}]
[9,{"$f":"Sheet1!B264","v":"2016-09-17"},{"$f":"IF(Sheet1!E264=-1,0,Sheet1!E264)","v":18.3},{"$f":"Sheet1!F264","v":16.399999999999999}]
[9,{"$f":"Sheet1!B265","v":"2016-09-18"},{"$f":"IF(Sheet1!E265=-1,0,Sheet1!E265)","v":0},{"$f":"Sheet1!F265","v":16.100000000000001}]
[9,{"$f":"Sheet1!B266","v":"2016-09-19"},{"$f":"IF(Sheet1!E266=-1,0,Sheet1!E266)","v":5.2},{"$f":"Sheet1!F266","v":16.399999999999999}]
[9,{"$f":"Sheet1!B267","v":"2016-09-20"},{"$f":"IF(Sheet1!E267=-1,0,Sheet1!E267)","v":5},{"$f":"Sheet1!F267","v":15.5}]
[9,{"$f":"Sheet1!B268","v":"2016-09-21"},{"$f":"IF(Sheet1!E268=-1,0,Sheet1!E268)","v":0},{"$f":"Sheet1!F268","v":11.2}]
[9,{"$f":"Sheet1!B269","v":"2016-09-22"},{"$f":"IF(Sheet1!E269=-1,0,Sheet1!E269)","v":0},{"$f":"Sheet1!F269","v":11}]
[9,{"$f":"Sheet1!B270","v":"2016-09-23"},{"$f":"IF(Sheet1!E270=-1,0,Sheet1!E270)","v":0},{"$f":"Sheet1!F270","v":12.3}]
[9,{"$f":"Sheet1!B271","v":"2016-09-24"},{"$f":"IF(Sheet1!E271=-1,0,Sheet1!E271)","v":0},{"$f":"Sheet1!F271","v":12.8}]
[9,{"$f":"Sheet1!B272","v":"2016-09-25"},{"$f":"IF(Sheet1!E272=-1,0,Sheet1!E272)","v":0},{"$f":"Sheet1!F272","v":12.3}]
[9,{"$f":"Sheet1!B273","v":"2016-09-26"},{"$f":"IF(Sheet1!E273=-1,0,Sheet1!E273)","v":0},{"$f":"Sheet1!F273","v":12.3}]
[9,{"$f":"Sheet1!B274","v":"2016-09-27"},{"$f":"IF(Sheet1!E274=-1,0,Sheet1!E274)","v":0},{"$f":"Sheet1!F274","v":12.4}]
[9,{"$f":"Sheet1!B275","v":"2016-09-28"},{"$f":"IF(Sheet1!E275=-1,0,Sheet1!E275)","v":0},{"$f":"Sheet1!F275","v":12.6}]
[9,{"$f":"Sheet1!B276","v":"2016-09-29"},{"$f":"IF(Sheet1!E276=-1,0,Sheet1!E276)","v":0},{"$f":"Sheet1!F276","v":14.7}]
[9,{"$f":"Sheet1!B277","v":"2016-09-30"},{"$f":"IF(Sheet1!E277=-1,0,Sheet1!E277)","v":0},{"$f":"Sheet1!F277","v":15.8}]
[10,{"$f":"Sheet1!B278","v":"2016-10-01"},{"$f":"IF(Sheet1!E278=-1,0,Sheet1!E278)","v":0},{"$f":"Sheet1!F278","v":17.5}]
[10,{"$f":"Sheet1!B279","v":"2016-10-02"},{"$f":"IF(Sheet1!E279=-1,0,Sheet1!E279)","v":0.4},{"$f":"Sheet1!F279","v":15.1}]
[10,{"$f":"Sheet1!B280","v":"2016-10-03"},{"$f":"IF(Sheet1!E280=-1,0,Sheet1!E280)","v":17.3},{"$f":"Sheet1!F280","v":10.3}]
[10,{"$f":"Sheet1!B281","v":"2016-10-04"},{"$f":"IF(Sheet1!E281=-1,0,Sheet1!E281)","v":1.8},{"$f":"Sheet1!F281","v":10.3}]
[10,{"$f":"Sheet1!B282","v":"2016-10-05"},{"$f":"IF(Sheet1!E282=-1,0,Sheet1!E282)","v":0.2},{"$f":"Sheet1!F282","v":5.0999999999999996}]
[10,{"$f":"Sheet1!B283","v":"2016-10-06"},{"$f":"IF(Sheet1!E283=-1,0,Sheet1!E283)","v":0},{"$f":"Sheet1!F283","v":7.8}]
[10,{"$f":"Sheet1!B284","v":"2016-10-07"},{"$f":"IF(Sheet1!E284=-1,0,Sheet1!E284)","v":0},{"$f":"Sheet1!F284","v":8.4}]
[10,{"$f":"Sheet1!B285","v":"2016-10-08"},{"$f":"IF(Sheet1!E285=-1,0,Sheet1!E285)","v":0},{"$f":"Sheet1!F285","v":8.8000000000000007}]
[10,{"$f":"Sheet1!B286","v":"2016-10-09"},{"$f":"IF(Sheet1!E286=-1,0,Sheet1!E286)","v":1.3},{"$f":"Sheet1!F286","v":7.6}]
[10,{"$f":"Sheet1!B287","v":"2016-10-10"},{"$f":"IF(Sheet1!E287=-1,0,Sheet1!E287)","v":0},{"$f":"Sheet1!F287","v":6}]
[10,{"$f":"Sheet1!B288","v":"2016-10-11"},{"$f":"IF(Sheet1!E288=-1,0,Sheet1!E288)","v":7.5},{"$f":"Sheet1!F288","v":5.5}]
[10,{"$f":"Sheet1!B289","v":"2016-10-12"},{"$f":"IF(Sheet1!E289=-1,0,Sheet1!E289)","v":0.6},{"$f":"Sheet1!F289","v":5.9}]
[10,{"$f":"Sheet1!B290","v":"2016-10-13"},{"$f":"IF(Sheet1!E290=-1,0,Sheet1!E290)","v":0},{"$f":"Sheet1!F290","v":7.2}]
[10,{"$f":"Sheet1!B291","v":"2016-10-14"},{"$f":"IF(Sheet1!E291=-1,0,Sheet1!E291)","v":0},{"$f":"Sheet1!F291","v":11.5}]
[10,{"$f":"Sheet1!B292","v":"2016-10-15"},{"$f":"IF(Sheet1!E292=-1,0,Sheet1!E292)","v":1.3},{"$f":"Sheet1!F292","v":11.6}]
[10,{"$f":"Sheet1!B293","v":"2016-10-16"},{"$f":"IF(Sheet1!E293=-1,0,Sheet1!E293)","v":4.9000000000000004},{"$f":"Sheet1!F293","v":11.1}]
[10,{"$f":"Sheet1!B294","v":"2016-10-17"},{"$f":"IF(Sheet1!E294=-1,0,Sheet1!E294)","v":0},{"$f":"Sheet1!F294","v":12}]
[10,{"$f":"Sheet1!B295","v":"2016-10-18"},{"$f":"IF(Sheet1!E295=-1,0,Sheet1!E295)","v":2.1},{"$f":"Sheet1!F295","v":9}]
[10,{"$f":"Sheet1!B296","v":"2016-10-19"},{"$f":"IF(Sheet1!E296=-1,0,Sheet1!E296)","v":4.2},{"$f":"Sheet1!F296","v":9.9}]
[10,{"$f":"Sheet1!B297","v":"2016-10-20"},{"$f":"IF(Sheet1!E297=-1,0,Sheet1!E297)","v":14},{"$f":"Sheet1!F297","v":7}]
[10,{"$f":"Sheet1!B298","v":"2016-10-21"},{"$f":"IF(Sheet1!E298=-1,0,Sheet1!E298)","v":16.600000000000001},{"$f":"Sheet1!F298","v":6.1}]
[10,{"$f":"Sheet1!B299","v":"2016-10-22"},{"$f":"IF(Sheet1!E299=-1,0,Sheet1!E299)","v":0.5},{"$f":"Sheet1!F299","v":4.7}]
[10,{"$f":"Sheet1!B300","v":"2016-10-23"},{"$f":"IF(Sheet1!E300=-1,0,Sheet1!E300)","v":0},{"$f":"Sheet1!F300","v":9.4}]
[10,{"$f":"Sheet1!B301","v":"2016-10-24"},{"$f":"IF(Sheet1!E301=-1,0,Sheet1!E301)","v":0.1},{"$f":"Sheet1!F301","v":15.8}]
[10,{"$f":"Sheet1!B302","v":"2016-10-25"},{"$f":"IF(Sheet1!E302=-1,0,Sheet1!E302)","v":0},{"$f":"Sheet1!F302","v":17.3}]
[10,{"$f":"Sheet1!B303","v":"2016-10-26"},{"$f":"IF(Sheet1!E303=-1,0,Sheet1!E303)","v":28.6},{"$f":"Sheet1!F303","v":12.7}]
[10,{"$f":"Sheet1!B304","v":"2016-10-27"},{"$f":"IF(Sheet1!E304=-1,0,Sheet1!E304)","v":1.4},{"$f":"Sheet1!F304","v":7.6}]
[10,{"$f":"Sheet1!B305","v":"2016-10-28"},{"$f":"IF(Sheet1!E305=-1,0,Sheet1!E305)","v":0},{"$f":"Sheet1!F305","v":6.1}]
[10,{"$f":"Sheet1!B306","v":"2016-10-29"},{"$f":"IF(Sheet1!E306=-1,0,Sheet1!E306)","v":0},{"$f":"Sheet1!F306","v":7.9}]
[10,{"$f":"Sheet1!B307","v":"2016-10-30"},{"$f":"IF(Sheet1!E307=-1,0,Sheet1!E307)","v":0},{"$f":"Sheet1!F307","v":9.1999999999999993}]
[10,{"$f":"Sheet1!B308","v":"2016-10-31"},{"$f":"IF(Sheet1!E308=-1,0,Sheet1!E308)","v":0.2},{"$f":"Sheet1!F308","v":6.4}]
[11,{"$f":"Sheet1!B309","v":"2016-11-01"},{"$f":"IF(Sheet1!E309=-1,0,Sheet1!E309)","v":0},{"$f":"Sheet1!F309","v":6.3}]
[11,{"$f":"Sheet1!B310","v":"2016-11-02"},{"$f":"IF(Sheet1!E310=-1,0,Sheet1!E310)","v":0},{"$f":"Sheet1!F310","v":10.6}]
[11,{"$f":"Sheet1!B311","v":"2016-11-03"},{"$f":"IF(Sheet1!E311=-1,0,Sheet1!E311)","v":0.9},{"$f":"Sheet1!F311","v":5}]
[11,{"$f":"Sheet1!B312","v":"2016-11-04"},{"$f":"IF(Sheet1!E312=-1,0,Sheet1!E312)","v":0},{"$f":"Sheet1!F312","v":2.4}]
[11,{"$f":"Sheet1!B313","v":"2016-11-05"},{"$f":"IF(Sheet1!E313=-1,0,Sheet1!E313)","v":0},{"$f":"Sheet1!F313","v":10.5}]
[11,{"$f":"Sheet1!B314","v":"2016-11-06"},{"$f":"IF(Sheet1!E314=-1,0,Sheet1!E314)","v":15.4},{"$f":"Sheet1!F314","v":11.9}]
[11,{"$f":"Sheet1!B315","v":"2016-11-07"},{"$f":"IF(Sheet1!E315=-1,0,Sheet1!E315)","v":38.1},{"$f":"Sheet1!F315","v":3.7}]
[11,{"$f":"Sheet1!B316","v":"2016-11-08"},{"$f":"IF(Sheet1!E316=-1,0,Sheet1!E316)","v":17.3},{"$f":"Sheet1!F316","v":2.8}]
[11,{"$f":"Sheet1!B317","v":"2016-11-09"},{"$f":"IF(Sheet1!E317=-1,0,Sheet1!E317)","v":3.3},{"$f":"Sheet1!F317","v":2.2000000000000002}]
[11,{"$f":"Sheet1!B318","v":"2016-11-10"},{"$f":"IF(Sheet1!E318=-1,0,Sheet1!E318)","v":0.1},{"$f":"Sheet1!F318","v":3.6}]
[11,{"$f":"Sheet1!B319","v":"2016-11-11"},{"$f":"IF(Sheet1!E319=-1,0,Sheet1!E319)","v":0},{"$f":"Sheet1!F319","v":3.7}]
[11,{"$f":"Sheet1!B320","v":"2016-11-12"},{"$f":"IF(Sheet1!E320=-1,0,Sheet1!E320)","v":33.9},{"$f":"Sheet1!F320","v":4.0999999999999996}]
[11,{"$f":"Sheet1!B321","v":"2016-11-13"},{"$f":"IF(Sheet1!E321=-1,0,Sheet1!E321)","v":0},{"$f":"Sheet1!F321","v":1.3}]
[11,{"$f":"Sheet1!B322","v":"2016-11-14"},{"$f":"IF(Sheet1!E322=-1,0,Sheet1!E322)","v":0},{"$f":"Sheet1!F322","v":0.9}]
[11,{"$f":"Sheet1!B323","v":"2016-11-15"},{"$f":"IF(Sheet1!E323=-1,0,Sheet1!E323)","v":0},{"$f":"Sheet1!F323","v":-1}]
[11,{"$f":"Sheet1!B324","v":"2016-11-16"},{"$f":"IF(Sheet1!E324=-1,0,Sheet1!E324)","v":0},{"$f":"Sheet1!F324","v":4.3}]
[{"$f":"IF(B325<>\"\",MONTH(B325),\"\")","v":11},{"$f":"Sheet1!B325","v":"2016-11-17"},{"$f":"IF(Sheet1!E325=-1,0,Sheet1!E325)","v":0.1},{"$f":"Sheet1!F325","v":9.4}]
[11,{"$f":"Sheet1!B326","v":"2016-11-18"},{"$f":"IF(Sheet1!E326=-1,0,Sheet1!E326)","v":0},{"$f":"Sheet1!F326","v":11.1}]
[11,{"$f":"Sheet1!B327","v":"2016-11-19"},{"$f":"IF(Sheet1!E327=-1,0,Sheet1!E327)","v":11.6},{"$f":"Sheet1!F327","v":11}]
[11,{"$f":"Sheet1!B328","v":"2016-11-20"},{"$f":"IF(Sheet1!E328=-1,0,Sheet1!E328)","v":19.8},{"$f":"Sheet1!F328","v":9.1999999999999993}]
[11,{"$f":"Sheet1!B329","v":"2016-11-21"},{"$f":"IF(Sheet1!E329=-1,0,Sheet1!E329)","v":0.2},{"$f":"Sheet1!F329","v":10.3}]
[11,{"$f":"Sheet1!B330","v":"2016-11-22"},{"$f":"IF(Sheet1!E330=-1,0,Sheet1!E330)","v":0.1},{"$f":"Sheet1!F330","v":10.7}]
[11,{"$f":"Sheet1!B331","v":"2016-11-23"},{"$f":"IF(Sheet1!E331=-1,0,Sheet1!E331)","v":0},{"$f":"Sheet1!F331","v":11.2}]
[11,{"$f":"Sheet1!B332","v":"2016-11-24"},{"$f":"IF(Sheet1!E332=-1,0,Sheet1!E332)","v":0},{"$f":"Sheet1!F332","v":12.4}]
[11,{"$f":"Sheet1!B333","v":"2016-11-25"},{"$f":"IF(Sheet1!E333=-1,0,Sheet1!E333)","v":0},{"$f":"Sheet1!F333","v":8.8000000000000007}]
[11,{"$f":"Sheet1!B334","v":"2016-11-26"},{"$f":"IF(Sheet1!E334=-1,0,Sheet1!E334)","v":0.6},{"$f":"Sheet1!F334","v":7.9}]
[11,{"$f":"Sheet1!B335","v":"2016-11-27"},{"$f":"IF(Sheet1!E335=-1,0,Sheet1!E335)","v":0},{"$f":"Sheet1!F335","v":8.1999999999999993}]
[11,{"$f":"Sheet1!B336","v":"2016-11-28"},{"$f":"IF(Sheet1!E336=-1,0,Sheet1!E336)","v":1.6},{"$f":"Sheet1!F336","v":1.3}]
[11,{"$f":"Sheet1!B337","v":"2016-11-29"},{"$f":"IF(Sheet1!E337=-1,0,Sheet1!E337)","v":0},{"$f":"Sheet1!F337","v":-2.2999999999999998}]
[11,{"$f":"Sheet1!B338","v":"2016-11-30"},{"$f":"IF(Sheet1!E338=-1,0,Sheet1!E338)","v":0},{"$f":"Sheet1!F338","v":-2.2999999999999998}]
[12,{"$f":"Sheet1!B339","v":"2016-12-01"},{"$f":"IF(Sheet1!E339=-1,0,Sheet1!E339)","v":0},{"$f":"Sheet1!F339","v":-1.5}]
[12,{"$f":"Sheet1!B340","v":"2016-12-02"},{"$f":"IF(Sheet1!E340=-1,0,Sheet1!E340)","v":0},{"$f":"Sheet1!F340","v":0}]
[12,{"$f":"Sheet1!B341","v":"2016-12-03"},{"$f":"IF(Sheet1!E341=-1,0,Sheet1!E341)","v":0},{"$f":"Sheet1!F341","v":-0.9}]
[12,{"$f":"Sheet1!B342","v":"2016-12-04"},{"$f":"IF(Sheet1!E342=-1,0,Sheet1!E342)","v":0},{"$f":"Sheet1!F342","v":-0.6}]
[12,{"$f":"Sheet1!B343","v":"2016-12-05"},{"$f":"IF(Sheet1!E343=-1,0,Sheet1!E343)","v":0},{"$f":"Sheet1!F343","v":-0.4}]
[12,{"$f":"Sheet1!B344","v":"2016-12-06"},{"$f":"IF(Sheet1!E344=-1,0,Sheet1!E344)","v":0},{"$f":"Sheet1!F344","v":-0.1}]
[12,{"$f":"Sheet1!B345","v":"2016-12-07"},{"$f":"IF(Sheet1!E345=-1,0,Sheet1!E345)","v":0},{"$f":"Sheet1!F345","v":-2.7}]
[12,{"$f":"Sheet1!B346","v":"2016-12-08"},{"$f":"IF(Sheet1!E346=-1,0,Sheet1!E346)","v":0},{"$f":"Sheet1!F346","v":-1.9}]
[12,{"$f":"Sheet1!B347","v":"2016-12-09"},{"$f":"IF(Sheet1!E347=-1,0,Sheet1!E347)","v":0},{"$f":"Sheet1!F347","v":0.5}]
[12,{"$f":"Sheet1!B348","v":"2016-12-10"},{"$f":"IF(Sheet1!E348=-1,0,Sheet1!E348)","v":0},{"$f":"Sheet1!F348","v":-1.1000000000000001}]
[12,{"$f":"Sheet1!B349","v":"2016-12-11"},{"$f":"IF(Sheet1!E349=-1,0,Sheet1!E349)","v":0},{"$f":"Sheet1!F349","v":0.5}]
[12,{"$f":"Sheet1!B350","v":"2016-12-12"},{"$f":"IF(Sheet1!E350=-1,0,Sheet1!E350)","v":0},{"$f":"Sheet1!F350","v":2.6}]
[12,{"$f":"Sheet1!B351","v":"2016-12-13"},{"$f":"IF(Sheet1!E351=-1,0,Sheet1!E351)","v":0},{"$f":"Sheet1!F351","v":0.6}]
[12,{"$f":"Sheet1!B352","v":"2016-12-14"},{"$f":"IF(Sheet1!E352=-1,0,Sheet1!E352)","v":0},{"$f":"Sheet1!F352","v":1.5}]
[12,{"$f":"Sheet1!B353","v":"2016-12-15"},{"$f":"IF(Sheet1!E353=-1,0,Sheet1!E353)","v":0},{"$f":"Sheet1!F353","v":2.2000000000000002}]
[12,{"$f":"Sheet1!B354","v":"2016-12-16"},{"$f":"IF(Sheet1!E354=-1,0,Sheet1!E354)","v":0},{"$f":"Sheet1!F354","v":0.1}]
[12,{"$f":"Sheet1!B355","v":"2016-12-17"},{"$f":"IF(Sheet1!E355=-1,0,Sheet1!E355)","v":0},{"$f":"Sheet1!F355","v":-2.2000000000000002}]
[12,{"$f":"Sheet1!B356","v":"2016-12-18"},{"$f":"IF(Sheet1!E356=-1,0,Sheet1!E356)","v":0},{"$f":"Sheet1!F356","v":-2.1}]
[12,{"$f":"Sheet1!B357","v":"2016-12-19"},{"$f":"IF(Sheet1!E357=-1,0,Sheet1!E357)","v":0},{"$f":"Sheet1!F357","v":-1.2}]
[12,{"$f":"Sheet1!B358","v":"2016-12-20"},{"$f":"IF(Sheet1!E358=-1,0,Sheet1!E358)","v":0},{"$f":"Sheet1!F358","v":-1.9}]
[12,{"$f":"Sheet1!B359","v":"2016-12-21"},{"$f":"IF(Sheet1!E359=-1,0,Sheet1!E359)","v":0},{"$f":"Sheet1!F359","v":-2.9}]
[12,{"$f":"Sheet1!B360","v":"2016-12-22"},{"$f":"IF(Sheet1!E360=-1,0,Sheet1!E360)","v":0},{"$f":"Sheet1!F360","v":-2.8}]
[12,{"$f":"Sheet1!B361","v":"2016-12-23"},{"$f":"IF(Sheet1!E361=-1,0,Sheet1!E361)","v":0},{"$f":"Sheet1!F361","v":-3.4}]
[12,{"$f":"Sheet1!B362","v":"2016-12-24"},{"$f":"IF(Sheet1!E362=-1,0,Sheet1!E362)","v":0},{"$f":"Sheet1!F362","v":-2.6}]
[12,{"$f":"Sheet1!B363","v":"2016-12-25"},{"$f":"IF(Sheet1!E363=-1,0,Sheet1!E363)","v":0},{"$f":"Sheet1!F363","v":-2.2999999999999998}]
[12,{"$f":"Sheet1!B364","v":"2016-12-26"},{"$f":"IF(Sheet1!E364=-1,0,Sheet1!E364)","v":0},{"$f":"Sheet1!F364","v":0.6}]
[12,{"$f":"Sheet1!B365","v":"2016-12-27"},{"$f":"IF(Sheet1!E365=-1,0,Sheet1!E365)","v":0.1},{"$f":"Sheet1!F365","v":1.8}]
[12,{"$f":"Sheet1!B366","v":"2016-12-28"},{"$f":"IF(Sheet1!E366=-1,0,Sheet1!E366)","v":0},{"$f":"Sheet1!F366","v":4.0999999999999996}]
[12,{"$f":"Sheet1!B367","v":"2016-12-29"},{"$f":"IF(Sheet1!E367=-1,0,Sheet1!E367)","v":0.2},{"$f":"Sheet1!F367","v":-2.2000000000000002}]
[12,{"$f":"Sheet1!B368","v":"2016-12-30"},{"$f":"IF(Sheet1!E368=-1,0,Sheet1!E368)","v":0},{"$f":"Sheet1!F368","v":-5.0999999999999996}]
[12,{"$f":"Sheet1!B369","v":"2016-12-31"},{"$f":"IF(Sheet1!E369=-1,0,Sheet1!E369)","v":0},{"$f":"Sheet1!F369","v":-5.2}]
[""]
[""]
[""]
[""]

{"sheet":"Sheet1","index":1,"n_rows":376,"n_cols":12,"rows_kept":376,"cut":false,"hidden":false,"merged":[]}
[]
[]
[null,"Date","MAX_T","MIN_T","Padavine","pov_dnev_T",null,"delta - iskanje napake min > max TEM",null,null,null,"POV_DNEVNA<T_MIN:in >T_MAX"]
[null,"2016-01-01",1.5,-6.6,-1,-3.3,null,{"$f":"IF(C4-D4<0, \"MINT > MAXT --> NAPAKA!!!!\",\"\")","v":""},null,null,null,{"$f":"IF(AND(F4>D4,F4<C4),\"\",\"NAPAKA. KER NE VELJA TMIN<TPOV<TMAX\")","v":""}]
[null,"2016-01-02",-0.9,-8.3000000000000007,-1,-3.2,null,"",null,null,null,{"$f":"IF(AND(F5>D5,F5<C5),\"\",\"NAPAKA. KER NE VELJA TMIN<TPOV<TMAX\")","v":""}]
[null,"2016-01-03",-1.6,-5.3,6.6,-5,null,"",null,null,null,""]
[null,"2016-01-04",-4.0999999999999996,-9.6,1.2,-6.5,null,"",null,null,null,""]
[null,"2016-01-05",-2.6,-14.2,1.2,-6.2,null,"",null,null,null,""]
[null,"2016-01-06",-0.9,-3.4,0.4,-2,null,"",null,null,null,""]
[null,"2016-01-07",4.4000000000000004,-8,1,-1.8,null,"",null,null,null,""]
[null,"2016-01-08",3.5,-7.6,-1,-0.3,null,"",null,null,null,""]
[null,"2016-01-09",2,0.4,1.3,1.4,null,"",null,null,null,""]
[null,"2016-01-10",11.2,0.8,12.9,6.7,null,"",null,null,null,""]
[null,"2016-01-11",16.7,7.3,0.4,10.4,null,"",null,null,null,""]
[null,"2016-01-12",11.2,0,36.700000000000003,3.3,null,"",null,null,null,""]
[null,"2016-01-13",9.6,-1.9,-1,2.2000000000000002,null,"",null,null,null,""]
[null,"2016-01-14",3.7,-4.7,-1,0.9,null,"",null,null,null,""]
[null,"2016-01-15",5.3,-2.2999999999999998,0.9,0.6,null,"",null,null,null,""]
[null,"2016-01-16",4.0999999999999996,-6.1,-1,-1,null,"",null,null,null,""]
[null,"2016-01-17",3.8,-7.2,-1,-1.6,null,"",null,null,null,""]
[null,"2016-01-18",0.3,-8.3000000000000007,-1,-5.3,null,"",null,null,null,""]
[null,"2016-01-19",-0.4,-10.6,-1,-5.9,null,"",null,null,null,""]
[null,"2016-01-20",2.1,-9.1999999999999993,-1,-4.0999999999999996,null,"",null,null,null,""]
[null,"2016-01-21",3.4,-9.6,-1,-3.5,null,"",null,null,null,""]
[null,"2016-01-22",1.7,-7,-1,-4,null,"",null,null,null,""]
[null,"2016-01-23",-0.9,-10.5,-1,-6.2,null,"",null,null,null,""]
[null,"2016-01-24",5,-10.3,-1,-2.4,null,"",null,null,null,""]
[null,"2016-01-25",11.2,-3,-1,2.5,null,"",null,null,null,""]
[null,"2016-01-26",14.4,-4.0999999999999996,0.1,2.6,null,"",null,null,null,""]
[null,"2016-01-27",15.6,-4.2,-1,4.0999999999999996,null,"",null,null,null,""]
[null,"2016-01-28",14.6,1,-1,5.6,null,"",null,null,null,""]
[null,"2016-01-29",14.2,-2.9,-1,2.8,null,"",null,null,null,""]
[null,"2016-01-30",11.3,-3.5,-1,7,null,"",null,null,null,""]
[null,"2016-01-31",11.7,7.5,0.1,9.6,null,"",null,null,null,""]
[null,"2016-02-01",16.3,1.7,1,7.8,null,"",null,null,null,""]
[null,"2016-02-02",14.4,5.7,-1,12.3,null,"",null,null,null,""]
[null,"2016-02-03",12.9,2.6,-1,6.1,null,"",null,null,null,""]
[null,"2016-02-04",9.6999999999999993,-0.1,14.9,3.1,null,"",null,null,null,""]
[null,"2016-02-05",9.9,-2.9,-1,1.6,null,"",null,null,null,""]
[null,"2016-02-06",12.6,-4.0999999999999996,-1,6.2,null,"",null,null,null,""]
[null,"2016-02-07",11.1,6.7,-1,9.5,null,"",null,null,null,""]
[null,"2016-02-08",13.7,4.9000000000000004,0.7,9.4,null,"",null,null,null,""]
[null,"2016-02-09",13.8,8.9,1.3,11,null,"",null,null,null,""]
[null,"2016-02-10",11,0.3,17.399999999999999,3.2,null,"",null,null,null,""]
[null,"2016-02-11",10.7,-2.2999999999999998,5.5,2,null,"",null,null,null,""]
[null,"2016-02-12",1.5,-3.4,-1,0.2,null,"",null,null,null,""]
[null,"2016-02-13",8.4,-0.1,18.2,2.2999999999999998,null,"",null,null,null,""]
[null,"2016-02-14",7.8,1.3,0.7,4.8,null,"",null,null,null,""]
[null,"2016-02-15",5.7,1,12.2,3.4,null,"",null,null,null,""]
[null,"2016-02-16",5.6,1.9,27.3,3.4,null,"",null,null,null,""]
[null,"2016-02-17",3.2,0,12.3,1.1000000000000001,null,"",null,null,null,""]
[null,"2016-02-18",3.7,1.1000000000000001,15.9,3.2,null,"",null,null,null,""]
[null,"2016-02-19",5.7,3.3,23.5,4.2,null,"",null,null,null,""]
[null,"2016-02-20",7.6,1.5,9.6,2.9,null,"",null,null,null,""]
[null,"2016-02-21",12.5,1,-1,7.9,null,"",null,null,null,""]
[null,"2016-02-22",13.8,4.2,-1,11.4,null,"",null,null,null,""]
[null,"2016-02-23",13.7,7.1,0.2,9.6999999999999993,null,"",null,null,null,""]
[null,"2016-02-24",9.8000000000000007,0.5,1.5,3.7,null,"",null,null,null,""]
[null,"2016-02-25",8.6999999999999993,-1.1000000000000001,-1,5.6,null,"",null,null,null,""]
[null,"2016-02-26",6.9,0.5,0.6,2,null,"",null,null,null,""]
[null,"2016-02-27",5.2,-3.2,0.2,2.2000000000000002,null,"",null,null,null,""]
[null,"2016-02-28",7.1,1,0.3,4.8,null,"",null,null,null,""]
[null,"2016-02-29",8.6999999999999993,4.4000000000000004,9,6.5,null,"",null,null,null,""]
[null,"2016-03-01",11.8,3.4,7.9,5.9,null,"",null,null,null,""]
[null,"2016-03-02",13.5,-1.8,-1,5,null,"",null,null,null,""]
[null,"2016-03-03",4.9000000000000004,0.1,10.9,2.2000000000000002,null,"",null,null,null,""]
[null,"2016-03-04",9.4,2,19.100000000000001,4.5999999999999996,null,"",null,null,null,""]
[null,"2016-03-05",12.7,-0.6,-1,9.1,null,{"$f":"IF(C68-D68<0, \"MINT > MAXT --> NAPAKA!!!!\",\"\")","v":""},null,null,null,""]
[null,"2016-03-06",11.4,3,4.8,6.5,null,"",null,null,null,{"$f":"IF(AND(F69>D69,F69<C69),\"\",\"NAPAKA. KER NE VELJA TMIN<TPOV<TMAX\")","v":""}]
[null,"2016-03-07",5.8,0.5,8.5,2.4,null,"",null,null,null,""]
[null,"2016-03-08",7.7,1.9,4.8,4.9000000000000004,null,"",null,null,null,""]
[null,"2016-03-09",6.8,3.1,-1,4.5,null,"",null,null,null,""]
[null,"2016-03-10",14.1,2.9,-1,6.2,null,"",null,null,null,""]
[null,"2016-03-11",9.4,3.2,0.3,7,null,"",null,null,null,""]
[null,"2016-03-12",7.3,4.9000000000000004,1,6.8,null,"",null,null,null,""]
[null,"2016-03-13",7.4,4.4000000000000004,-1,5.4,null,"",null,null,null,""]
[null,"2016-03-14",11.2,0.6,0.1,4.3,null,"",null,null,null,""]
[null,"2016-03-15",5.2,-3.5,-1,1.3,null,"",null,null,null,""]
[null,"2016-03-16",4.7,-1.1000000000000001,1.2,2.9,null,"",null,null,null,""]
[null,"2016-03-17",12.5,-1.5,-1,3.3,null,"",null,null,null,""]
[null,"2016-03-18",17.8,-3.3,-1,5.4,null,"",null,null,null,""]
[null,"2016-03-19",17.100000000000001,-2.2999999999999998,-1,8.6,null,"",null,null,null,""]
[null,"2016-03-20",17.8,-1.4,-1,10,null,"",null,null,null,""]
[null,"2016-03-21",12.2,4.5999999999999996,-1,8,null,"",null,null,null,""]
[null,"2016-03-22",13.6,3.9,0.1,6.9,null,"",null,null,null,""]
[null,"2016-03-23",9.1999999999999993,0.1,-1,7.1,null,"",null,null,null,""]
[null,"2016-03-24",12.7,-0.5,0.4,3.8,null,"",null,null,null,""]
[null,"2016-03-25",14.1,-4.0999999999999996,-1,6.6,null,"",null,null,null,""]
[null,"2016-03-26",12.3,3.6,0.1,6.2,null,"",null,null,null,""]
[null,"2016-03-27",15.3,-1.9,0.4,7.2,null,"",null,null,null,""]
[null,"2016-03-28",13.7,0.9,-1,9.1999999999999993,null,"",null,null,null,""]
[null,"2016-03-29",17.100000000000001,5.0999999999999996,-1,11.2,null,"",null,null,null,""]
[null,"2016-03-30",17.5,5.9,-1,13,null,"",null,null,null,""]
[null,"2016-03-31",20.6,10.1,-1,15.7,null,"",null,null,null,""]
[null,"2016-04-01",20.399999999999999,11.5,-1,14.6,null,"",null,null,null,""]
[null,"2016-04-02",16.100000000000001,6.6,-1,9.4,null,"",null,null,null,""]
[null,"2016-04-03",23,0.5,-1,11.8,null,"",null,null,null,""]
[null,"2016-04-04",21.5,5.8,-1,16,null,"",null,null,null,""]
[null,"2016-04-05",23.6,11,-1,17.100000000000001,null,"",null,null,null,""]
[null,"2016-04-06",25.1,9.1,-1,18.100000000000001,null,"",null,null,null,""]
[null,"2016-04-07",22.6,5.5,-1,13.3,null,"",null,null,null,""]
[null,"2016-04-08",13.6,8,-1,10.199999999999999,null,"",null,null,null,""]
[null,"2016-04-09",13.7,9,7.3,10.9,null,"",null,null,null,""]
[null,"2016-04-10",16.600000000000001,7.9,1.9,12.5,null,"",null,null,null,""]
[null,"2016-04-11",20.9,6.4,-1,13.7,null,"",null,null,null,""]
[null,"2016-04-12",21.8,4.5999999999999996,-1,13.6,null,"",null,null,null,""]
[null,"2016-04-13",22.8,7.3,-1,16.100000000000001,null,"",null,null,null,""]
[null,"2016-04-14",16,6.9,0.4,10.1,null,"",null,null,null,""]
[null,"2016-04-15",20.8,3.5,14.2,14,null,"",null,null,null,""]
[null,"2016-04-16",21.1,10.7,-1,16.600000000000001,null,"",null,null,null,""]
[null,"2016-04-17",22,10.4,-1,15.7,null,"",null,null,null,""]
[null,"2016-04-18",16.899999999999999,6.4,-1,12.8,null,"",null,null,null,""]
[null,"2016-04-19",15.9,5.2,1.2,8.9,null,"",null,null,null,""]
[null,"2016-04-20",16.899999999999999,-0.4,-1,8.1,null,"",null,null,null,""]
[null,"2016-04-21",21.7,-0.1,-1,11.3,null,"",null,null,null,""]
[null,"2016-04-22",22.7,2.7,-1,13.1,null,"",null,null,null,""]
[null,"2016-04-23",18.7,3.7,-1,11.1,null,"",null,null,null,""]
[null,"2016-04-24",10.3,5.2,12.4,7.1,null,"",null,null,null,""]
[null,"2016-04-25",12.2,1,0.1,4.4000000000000004,null,"",null,null,null,""]
[null,"2016-04-26",14.9,-3.1,-1,7.5,null,"",null,null,null,""]
[null,"2016-04-27",12.5,-0.1,-1,3.1,null,"",null,null,null,""]
[null,"2016-04-28",5.0999999999999996,0,30.8,2.6,null,"",null,null,null,""]
[null,"2016-04-29",16.100000000000001,0.6,-1,6.8,null,"",null,null,null,""]
[null,"2016-04-30",18.5,-0.8,-1,10.199999999999999,null,"",null,null,null,""]
[null,"2016-05-01",11.4,6,-1,9.8000000000000007,null,"",null,null,null,""]
[null,"2016-05-02",13.8,9,25.5,11.3,null,"",null,null,null,""]
[null,"2016-05-03",18.899999999999999,8.8000000000000007,3.5,12.5,null,"",null,null,null,""]
[null,"2016-05-04",15.8,8.5,-1,11.5,null,"",null,null,null,""]
[null,"2016-05-05",20.100000000000001,8,2.8,12.1,null,"",null,null,null,""]
[null,"2016-05-06",22.8,7.2,-1,14.1,null,"",null,null,null,""]
[null,"2016-05-07",23.7,5.3,-1,13.3,null,"",null,null,null,""]
[null,"2016-05-08",20.9,6.3,10.9,12.5,null,{"$f":"IF(C132-D132<0, \"MINT > MAXT --> NAPAKA!!!!\",\"\")","v":""},null,null,null,""]
[null,"2016-05-09",23.2,6,6.4,14.6,null,"",null,null,null,{"$f":"IF(AND(F133>D133,F133<C133),\"\",\"NAPAKA. KER NE VELJA TMIN<TPOV<TMAX\")","v":""}]
[null,"2016-05-10",17,10,-1,14.1,null,"",null,null,null,""]
[null,"2016-05-11",17.399999999999999,9.6,1.2,13.7,null,"",null,null,null,""]
[null,"2016-05-12",15.9,11.3,8.1999999999999993,13.8,null,"",null,null,null,""]
[null,"2016-05-13",18.600000000000001,11.6,8.6,14.8,null,"",null,null,null,""]
[null,"2016-05-14",19.8,11.2,4.5,13.9,null,"",null,null,null,""]
[null,"2016-05-15",13.1,8.9,23.5,10,null,"",null,null,null,""]
[null,"2016-05-16",16.5,4.7,7.1,9.1999999999999993,null,"",null,null,null,""]
[null,"2016-05-17",17.5,3.1,-1,10.1,null,"",null,null,null,""]
[null,"2016-05-18",20.9,6,0.1,12.5,null,"",null,null,null,""]
[null,"2016-05-19",20.2,3.9,-1,14.3,null,"",null,null,null,""]
[null,"2016-05-20",20.8,10.6,0.3,15.1,null,"",null,null,null,""]
[null,"2016-05-21",24.8,5.9,-1,16.7,null,"",null,null,null,""]
[null,"2016-05-22",26.7,7.8,-1,18.399999999999999,null,"",null,null,null,""]
[null,"2016-05-23",24.8,8.6999999999999993,-1,17.7,null,"",null,null,null,""]
[null,"2016-05-24",18.100000000000001,10.5,19.3,12.4,null,"",null,null,null,""]
[null,"2016-05-25",26.2,9.6,0.4,18.3,null,"",null,null,null,""]
[null,"2016-05-26",26.8,12.8,-1,19.3,null,"",null,null,null,""]
[null,"2016-05-27",29,11.5,2,20.9,null,"",null,null,null,""]
[null,"2016-05-28",29.4,11.2,-1,21.4,null,"",null,null,null,""]
[null,"2016-05-29",27.6,15.4,-1,19.8,null,"",null,null,null,""]
[null,"2016-05-30",21.8,10.8,1.8,16.3,null,"",null,null,null,""]
[null,"2016-05-31",23.2,12.2,2.9,16.899999999999999,null,"",null,null,null,""]
[null,"2016-06-01",22.7,10.7,3.9,17.399999999999999,null,"",null,null,null,""]
[null,"2016-06-02",23.7,11.3,-1,17,null,"",null,null,null,""]
[null,"2016-06-03",23.2,10.199999999999999,-1,17.100000000000001,null,"",null,null,null,""]
[null,"2016-06-04",26.7,10.1,-1,18.899999999999999,null,"",null,null,null,""]
[null,"2016-06-05",25.3,11,-1,15.8,null,"",null,null,null,""]
[null,"2016-06-06",26.2,13.7,11.3,17.899999999999999,null,"",null,null,null,""]
[null,"2016-06-07",25.8,11.6,0.1,18.399999999999999,null,"",null,null,null,""]
[null,"2016-06-08",25.3,13.1,-1,18.3,null,"",null,null,null,""]
[null,"2016-06-09",19.7,14.2,3.4,16.399999999999999,null,"",null,null,null,""]
[null,"2016-06-10",23.3,13.8,18.3,15.9,null,"",null,null,null,""]
[null,"2016-06-11",25.4,10.8,0.8,18.3,null,"",null,null,null,""]
[null,"2016-06-12",21.5,14.8,6.7,17.2,null,"",null,null,null,""]
[null,"2016-06-13",25,14.5,0.6,18.100000000000001,null,"",null,null,null,""]
[null,"2016-06-14",23.7,11.9,0.2,17.600000000000001,null,"",null,null,null,""]
[null,"2016-06-15",23.3,14.1,27.3,17.399999999999999,null,"",null,null,null,""]
[null,"2016-06-16",27.6,12.5,4.9000000000000004,20.399999999999999,null,"",null,null,null,""]
[null,"2016-06-17",25,15.8,2.1,19.600000000000001,null,"",null,null,null,""]
[null,"2016-06-18",26.6,10.5,-1,19.2,null,"",null,null,null,""]
[null,"2016-06-19",17.399999999999999,11.2,0.1,15.5,null,"",null,null,null,""]
[null,"2016-06-20",21.8,13.4,20.100000000000001,15.8,null,"",null,null,null,""]
[null,"2016-06-21",27.3,10.5,2.9,19.2,null,"",null,null,null,""]
[null,"2016-06-22",28.3,12.7,-1,21.3,null,"",null,null,null,""]
[null,"2016-06-23",30.4,15,-1,22.9,null,"",null,null,null,""]
[null,"2016-06-24",32.9,18.100000000000001,-1,24.9,null,"",null,null,null,""]
[null,"2016-06-25",31.3,17.899999999999999,-1,22.1,null,"",null,null,null,""]
[null,"2016-06-26",25.9,15.6,5,18.399999999999999,null,"",null,null,null,""]
[null,"2016-06-27",21.2,14.7,10.1,17.100000000000001,null,"",null,null,null,""]
[null,"2016-06-28",27,10.199999999999999,2.7,19,null,"",null,null,null,""]
[null,"2016-06-29",30.2,11.9,-1,21.5,null,"",null,null,null,""]
[null,"2016-06-30",30,14.4,-1,22.7,null,"",null,null,null,""]
[null,"2016-07-01",29.5,15,-1,22.5,null,"",null,null,null,""]
[null,"2016-07-02",30.9,16.3,-1,24.2,null,"",null,null,null,""]
[null,"2016-07-03",22.7,14.9,2.9,15.9,null,"",null,null,null,""]
[null,"2016-07-04",26.4,13.4,3.8,18.8,null,"",null,null,null,""]
[null,"2016-07-05",28.3,11.2,-1,21.8,null,"",null,null,null,""]
[null,"2016-07-06",26.7,16.399999999999999,0.5,19.8,null,"",null,null,null,""]
[null,"2016-07-07",25.3,15.6,9.3000000000000007,19.600000000000001,null,"",null,null,null,""]
[null,"2016-07-08",29.4,12.4,-1,21.8,null,"",null,null,null,""]
[null,"2016-07-09",28.6,17.899999999999999,-1,22.2,null,"",null,null,null,""]
[null,"2016-07-10",30.7,17.3,-1,24.3,null,"",null,null,null,""]
[null,"2016-07-11",33.299999999999997,16.100000000000001,-1,25.6,null,{"$f":"IF(C196-D196<0, \"MINT > MAXT --> NAPAKA!!!!\",\"\")","v":""},null,null,null,""]
[null,"2016-07-12",33.4,17.100000000000001,-1,25.4,null,"",null,null,null,{"$f":"IF(AND(F197>D197,F197<C197),\"\",\"NAPAKA. KER NE VELJA TMIN<TPOV<TMAX\")","v":""}]
[null,"2016-07-13",27.7,18.100000000000001,-1,22,null,"",null,null,null,""]
[null,"2016-07-14",21.8,14.3,20.9,17.3,null,"",null,null,null,""]
[null,"2016-07-15",19.2,11.9,-1,17.100000000000001,null,"",null,null,null,""]
[null,"2016-07-16",18,14,0.1,15.5,null,"",null,null,null,""]
[null,"2016-07-17",25.6,12.6,0.1,17.7,null,"",null,null,null,""]
[null,"2016-07-18",29.2,12.5,-1,20.8,null,"",null,null,null,""]
[null,"2016-07-19",28.8,16,-1,21.3,null,"",null,null,null,""]
[null,"2016-07-20",30.2,14.7,-1,22.2,null,"",null,null,null,""]
[null,"2016-07-21",31.4,15.3,3.4,23.3,null,"",null,null,null,""]
[null,"2016-07-22",30.1,18,-1,23.9,null,"",null,null,null,""]
[null,"2016-07-23",32.799999999999997,17,-1,23.8,null,"",null,null,null,""]
[null,"2016-07-24",30.6,15.9,-1,23.6,null,"",null,null,null,""]
[null,"2016-07-25",28.5,18.899999999999999,1.8,22.5,null,"",null,null,null,""]
[null,"2016-07-26",29.9,16.2,-1,22.2,null,"",null,null,null,""]
[null,"2016-07-27",28.9,16.600000000000001,1.3,21.3,null,"",null,null,null,""]
[null,"2016-07-28",27.4,17,19.2,20.9,null,"",null,null,null,""]
[null,"2016-07-29",29.2,16.899999999999999,3.5,22.3,null,"",null,null,null,""]
[null,"2016-07-30",31,16.2,-1,24.6,null,"",null,null,null,""]
[null,"2016-07-31",32,19.2,-1,23.2,null,"",null,null,null,""]
[null,"2016-08-01",24,15.6,39,18.399999999999999,null,"",null,null,null,""]
[null,"2016-08-02",26.2,13.2,0.6,19.3,null,"",null,null,null,""]
[null,"2016-08-03",28.3,14.4,-1,21.1,null,"",null,null,null,""]
[null,"2016-08-04",30.3,13.7,-1,22.1,null,"",null,null,null,""]
[null,"2016-08-05",30.7,14.7,-1,19.5,null,"",null,null,null,""]
[null,"2016-08-06",26.8,14.1,20.2,18.100000000000001,null,"",null,null,null,""]
[null,"2016-08-07",26.7,12.9,-1,18.8,null,"",null,null,null,""]
[null,"2016-08-08",27.7,10.5,-1,18.600000000000001,null,"",null,null,null,""]
[null,"2016-08-09",28.9,11.4,-1,19.7,null,"",null,null,null,""]
[null,"2016-08-10",18,12.1,-1,13.9,null,"",null,null,null,""]
[null,"2016-08-11",19.8,10.3,27.3,13.1,null,"",null,null,null,""]
[null,"2016-08-12",22.6,5.9,5.8,15,null,"",null,null,null,""]
[null,"2016-08-13",26.1,12.5,-1,18.8,null,"",null,null,null,""]
[null,"2016-08-14",28.1,11.4,-1,20.3,null,"",null,null,null,""]
[null,"2016-08-15",29.7,16.2,-1,21,null,"",null,null,null,""]
[null,"2016-08-16",27.1,14.4,9.3000000000000007,20.399999999999999,null,"",null,null,null,""]
[null,"2016-08-17",22.9,16.600000000000001,-1,18.7,null,"",null,null,null,""]
[null,"2016-08-18",25.3,15.3,3.8,19.100000000000001,null,"",null,null,null,""]
[null,"2016-08-19",26.5,15.2,0.6,20.100000000000001,null,"",null,null,null,""]
[null,"2016-08-20",28,13.9,-1,21.7,null,"",null,null,null,""]
[null,"2016-08-21",24.3,15.4,22.8,17.8,null,"",null,null,null,""]
[null,"2016-08-22",24,13.1,28.1,17.7,null,"",null,null,null,""]
[null,"2016-08-23",26.2,11.3,-1,18.100000000000001,null,"",null,null,null,""]
[null,"2016-08-24",26.7,11.7,-1,18.8,null,"",null,null,null,""]
[null,"2016-08-25",26.8,12,-1,18,null,"",null,null,null,""]
[null,"2016-08-26",27.7,10.3,-1,18,null,"",null,null,null,""]
[null,"2016-08-27",29.2,10.7,-1,19.3,null,"",null,null,null,""]
[null,"2016-08-28",30,12.2,-1,20,null,"",null,null,null,""]
[null,"2016-08-29",30.5,13.4,-1,20.6,null,"",null,null,null,""]
[null,"2016-08-30",27.5,16.100000000000001,15.2,19.100000000000001,null,"",null,null,null,""]
[null,"2016-08-31",26.1,11.9,-1,17.600000000000001,null,"",null,null,null,""]
[null,"2016-09-01",27.9,10.5,-1,19.8,null,"",null,null,null,""]
[null,"2016-09-02",28.9,16.8,0.1,20.5,null,"",null,null,null,""]
[null,"2016-09-03",29,12.7,-1,19.600000000000001,null,"",null,null,null,""]
[null,"2016-09-04",29.7,14.6,-1,21.6,null,"",null,null,null,""]
[null,"2016-09-05",22.8,14.1,6.8,17.3,null,"",null,null,null,""]
[null,"2016-09-06",16.7,13.8,1.2,15,null,"",null,null,null,""]
[null,"2016-09-07",24.5,13.5,1.5,18.3,null,"",null,null,null,""]
[null,"2016-09-08",26.7,13.3,-1,18.399999999999999,null,"",null,null,null,""]
[null,"2016-09-09",28.8,11.9,-1,19.100000000000001,null,"",null,null,null,""]
[null,"2016-09-10",28.2,12.2,-1,19.8,null,"",null,null,null,""]
[null,"2016-09-11",27.4,12.8,-1,18.7,null,"",null,null,null,""]
[null,"2016-09-12",29.4,12.7,-1,20.100000000000001,null,"",null,null,null,""]
[null,"2016-09-13",28.7,12.9,-1,18.399999999999999,null,{"$f":"IF(C260-D260<0, \"MINT > MAXT --> NAPAKA!!!!\",\"\")","v":""},null,null,null,""]
[null,"2016-09-14",27.2,11.9,-1,18.3,null,"",null,null,null,{"$f":"IF(AND(F261>D261,F261<C261),\"\",\"NAPAKA. KER NE VELJA TMIN<TPOV<TMAX\")","v":""}]
[null,"2016-09-15",27.4,12,-1,18.7,null,"",null,null,null,""]
[null,"2016-09-16",25.6,15.7,2.4,18.600000000000001,null,"",null,null,null,""]
[null,"2016-09-17",22.1,14.3,18.3,16.399999999999999,null,"",null,null,null,""]
[null,"2016-09-18",21.8,12.1,-1,16.100000000000001,null,"",null,null,null,""]
[null,"2016-09-19",23.1,13.7,5.2,16.399999999999999,null,"",null,null,null,""]
[null,"2016-09-20",20.100000000000001,9.3000000000000007,5,15.5,null,"",null,null,null,""]
[null,"2016-09-21",18.100000000000001,7.9,-1,11.2,null,"",null,null,null,""]
[null,"2016-09-22",20,4.5,-1,11,null,"",null,null,null,""]
[null,"2016-09-23",22.1,5.6,-1,12.3,null,"",null,null,null,""]
[null,"2016-09-24",22.8,7.2,-1,12.8,null,"",null,null,null,""]
[null,"2016-09-25",22.5,5.6,-1,12.3,null,"",null,null,null,""]
[null,"2016-09-26",21.2,6.2,-1,12.3,null,"",null,null,null,""]
[null,"2016-09-27",22,8,-1,12.4,null,"",null,null,null,""]
[null,"2016-09-28",22.6,4.8,-1,12.6,null,"",null,null,null,""]
[null,"2016-09-29",25.5,7.1,-1,14.7,null,"",null,null,null,""]
[null,"2016-09-30",24.1,8.8000000000000007,-1,15.8,null,"",null,null,null,""]
[null,"2016-10-01",24.1,9.1999999999999993,-1,17.5,null,"",null,null,null,""]
[null,"2016-10-02",18.5,12.3,0.4,15.1,null,"",null,null,null,""]
[null,"2016-10-03",17.3,6.7,17.3,10.3,null,"",null,null,null,""]
[null,"2016-10-04",15.1,3.2,1.8,10.3,null,"",null,null,null,""]
[null,"2016-10-05",14.5,1,0.2,5.0999999999999996,null,"",null,null,null,""]
[null,"2016-10-06",16.2,-1.8,-1,7.8,null,"",null,null,null,""]
[null,"2016-10-07",11,3.3,-1,8.4,null,"",null,null,null,""]
[null,"2016-10-08",14.2,2.6,-1,8.8000000000000007,null,"",null,null,null,""]
[null,"2016-10-09",13.5,4.2,1.3,7.6,null,"",null,null,null,""]
[null,"2016-10-10",8.1999999999999993,2.1,-1,6,null,"",null,null,null,""]
[null,"2016-10-11",8.8000000000000007,4.0999999999999996,7.5,5.5,null,"",null,null,null,""]
[null,"2016-10-12",14.5,2.2000000000000002,0.6,5.9,null,"",null,null,null,""]
[null,"2016-10-13",13.8,-0.7,-1,7.2,null,"",null,null,null,""]
[null,"2016-10-14",14.2,7.3,-1,11.5,null,"",null,null,null,""]
[null,"2016-10-15",13.1,9.9,1.3,11.6,null,"",null,null,null,""]
[null,"2016-10-16",18.100000000000001,8.1999999999999993,4.9000000000000004,11.1,null,"",null,null,null,""]
[null,"2016-10-17",16.899999999999999,6.9,-1,12,null,"",null,null,null,""]
[null,"2016-10-18",12.1,8,2.1,9,null,"",null,null,null,""]
[null,"2016-10-19",12.5,8,4.2,9.9,null,"",null,null,null,""]
[null,"2016-10-20",9.9,6.3,14,7,null,"",null,null,null,""]
[null,"2016-10-21",9,4.5999999999999996,16.600000000000001,6.1,null,"",null,null,null,""]
[null,"2016-10-22",13.3,-0.3,0.5,4.7,null,"",null,null,null,""]
[null,"2016-10-23",15.8,2.2000000000000002,-1,9.4,null,"",null,null,null,""]
[null,"2016-10-24",17.600000000000001,9.8000000000000007,0.1,15.8,null,"",null,null,null,""]
[null,"2016-10-25",21,15.5,-1,17.3,null,"",null,null,null,""]
[null,"2016-10-26",15.6,11.8,28.6,12.7,null,"",null,null,null,""]
[null,"2016-10-27",13.4,5.2,1.4,7.6,null,"",null,null,null,""]
[null,"2016-10-28",12.8,3.6,-1,6.1,null,"",null,null,null,""]
[null,"2016-10-29",17.7,2.2999999999999998,-1,7.9,null,"",null,null,null,""]
[null,"2016-10-30",14.9,2.2000000000000002,-1,9.1999999999999993,null,"",null,null,null,""]
[null,"2016-10-31",14.1,2.9,0.2,6.4,null,"",null,null,null,""]
[null,"2016-11-01",16.2,-0.1,-1,6.3,null,"",null,null,null,""]
[null,"2016-11-02",16.8,4.5999999999999996,-1,10.6,null,"",null,null,null,""]
[null,"2016-11-03",10.6,1.3,0.9,5,null,"",null,null,null,""]
[null,"2016-11-04",10,-1.4,-1,2.4,null,"",null,null,null,""]
[null,"2016-11-05",15.1,-1,-1,10.5,null,"",null,null,null,""]
[null,"2016-11-06",17.3,8.5,15.4,11.9,null,"",null,null,null,""]
[null,"2016-11-07",8.6,2.2000000000000002,38.1,3.7,null,"",null,null,null,""]
[null,"2016-11-08",4.5,1.8,17.3,2.8,null,"",null,null,null,""]
[null,"2016-11-09",7.7,0,3.3,2.2000000000000002,null,"",null,null,null,""]
[null,"2016-11-10",10.1,-0.2,0.1,3.6,null,"",null,null,null,""]
[null,"2016-11-11",6,-0.9,-1,3.7,null,"",null,null,null,""]
[null,"2016-11-12",7.4,2.9,33.9,4.0999999999999996,null,"",null,null,null,""]
[null,"2016-11-13",5.2,-3.3,-1,1.3,null,"",null,null,null,""]
[null,"2016-11-14",4.5,-1.6,-1,0.9,null,"",null,null,null,""]
[null,"2016-11-15",5.7,-5.5,-1,-1,null,"",null,null,null,""]
[null,"2016-11-16",8.9,-2.2999999999999998,-1,4.3,null,{"$f":"IF(C324-D324<0, \"MINT > MAXT --> NAPAKA!!!!\",\"\")","v":""},null,null,null,""]
[null,"2016-11-17",13,2.4,0.1,9.4,null,"",null,null,null,{"$f":"IF(AND(F325>D325,F325<C325),\"\",\"NAPAKA. KER NE VELJA TMIN<TPOV<TMAX\")","v":""}]
[null,"2016-11-18",13.2,9.6,-1,11.1,null,"",null,null,null,""]
[null,"2016-11-19",15.9,8.8000000000000007,11.6,11,null,"",null,null,null,""]
[null,"2016-11-20",13,5.7,19.8,9.1999999999999993,null,"",null,null,null,""]
[null,"2016-11-21",15.8,7.6,0.2,10.3,null,"",null,null,null,""]
[null,"2016-11-22",18.100000000000001,3.8,0.1,10.7,null,"",null,null,null,""]
[null,"2016-11-23",18.100000000000001,5.2,-1,11.2,null,"",null,null,null,""]
[null,"2016-11-24",18.2,7.1,-1,12.4,null,"",null,null,null,""]
[null,"2016-11-25",12.3,7.7,-1,8.8000000000000007,null,"",null,null,null,""]
[null,"2016-11-26",8.9,7.1,0.6,7.9,null,"",null,null,null,""]
[null,"2016-11-27",9.1,7,-1,8.1999999999999993,null,"",null,null,null,""]
[null,"2016-11-28",8.1,-2,1.6,1.3,null,"",null,null,null,""]
[null,"2016-11-29",3.9,-5.2,-1,-2.2999999999999998,null,"",null,null,null,""]
[null,"2016-11-30",5.0999999999999996,-7.4,-1,-2.2999999999999998,null,"",null,null,null,""]
[null,"2016-12-01",6.8,-5,-1,-1.5,null,"",null,null,null,""]
[null,"2016-12-02",8.5,-6,-1,0,null,"",null,null,null,""]
[null,"2016-12-03",5.3,-3.4,-1,-0.9,null,"",null,null,null,""]
[null,"2016-12-04",4.7,-6.7,-1,-0.6,null,"",null,null,null,""]
[null,"2016-12-05",5.6,-3.3,-1,-0.4,null,"",null,null,null,""]
[null,"2016-12-06",8.6,-6.3,-1,-0.1,null,"",null,null,null,""]
[null,"2016-12-07",1.9,-4.4000000000000004,-1,-2.7,null,"",null,null,null,""]
[null,"2016-12-08",3.7,-5.7,-1,-1.9,null,"",null,null,null,""]
[null,"2016-12-09",11.7,-5.0999999999999996,-1,0.5,null,"",null,null,null,""]
[null,"2016-12-10",8,-6.8,-1,-1.1000000000000001,null,"",null,null,null,""]
[null,"2016-12-11",11.7,-6.5,-1,0.5,null,"",null,null,null,""]
[null,"2016-12-12",12.6,-2.6,-1,2.6,null,"",null,null,null,""]
[null,"2016-12-13",6.6,-3.7,-1,0.6,null,"",null,null,null,""]
[null,"2016-12-14",9.8000000000000007,-4.4000000000000004,-1,1.5,null,"",null,null,null,""]
[null,"2016-12-15",4.4000000000000004,-2.2999999999999998,-1,2.2000000000000002,null,"",null,null,null,""]
[null,"2016-12-16",3.2,-2,-1,0.1,null,"",null,null,null,""]
[null,"2016-12-17",6.8,-7,-1,-2.2000000000000002,null,"",null,null,null,""]
[null,"2016-12-18",6.2,-8.1999999999999993,-1,-2.1,null,"",null,null,null,""]
[null,"2016-12-19",-0.6,-5.2,-1,-1.2,null,"",null,null,null,""]
[null,"2016-12-20",-0.5,-2.7,-1,-1.9,null,"",null,null,null,""]
[null,"2016-12-21",-1.7,-3.7,-1,-2.9,null,"",null,null,null,""]
[null,"2016-12-22",-1.9,-3.3,-1,-2.8,null,"",null,null,null,""]
[null,"2016-12-23",2.6,-6.5,-1,-3.4,null,"",null,null,null,""]
[null,"2016-12-24",0.6,-7.2,-1,-2.6,null,"",null,null,null,""]
[null,"2016-12-25",0.9,-3.1,-1,-2.2999999999999998,null,"",null,null,null,""]
[null,"2016-12-26",9.6,-5.4,-1,0.6,null,"",null,null,null,""]
[null,"2016-12-27",11.1,-2.4,0.1,1.8,null,"",null,null,null,""]
[null,"2016-12-28",9.5,-3.2,-1,4.0999999999999996,null,"",null,null,null,""]
[null,"2016-12-29",3.9,-6,0.2,-2.2000000000000002,null,"",null,null,null,""]
[null,"2016-12-30",2.4,-10.1,-1,-5.0999999999999996,null,"",null,null,null,""]
[null,"2016-12-31",4.2,-10.6,-1,-5.2,null,{"$f":"IF(C369-D369<0, \"MINT > MAXT --> NAPAKA!!!!\",\"\")","v":""},null,null,null,""]
[]
[]
[]
[]
[null,null,{"$f":"MAX(C4:C369)","v":33.4},19.2,39,{"$f":"MAX(F4:F369)","v":25.6},null,"Levo kontrola ekstremov in manjkajočih vred. - jih interpoliraj"]
[null,null,{"$f":"MIN(C4:C369)","v":-4.0999999999999996},-14.2,-1,{"$f":"MIN(F4:F369)","v":-6.5}]
[null,null,"MAX_T","MIN_T","Padavine","pov_dnev_T"]